BEGIN:VCALENDAR
VERSION:2.0
PRODID:-//ChamberMaster//Event Calendar 2.0//EN
METHOD:PUBLISH
X-PUBLISHED-TTL:P3D
REFRESH-INTERVAL:P3D
CALSCALE:GREGORIAN
BEGIN:VEVENT
DTSTART;VALUE=DATE:20210326
DTEND;VALUE=DATE:20210329
TRANSP:TRANSPARENT
X-MICROSOFT-CDO-ALLDAYEVENT:TRUE
SUMMARY:Selbyville Easter Egg Hunt
DESCRIPTION:The Easter Bunny visited Selbyville and hopped all around town. He didn't realize that there was a hole in his basket!  Help EB by finding his eggs.  EB left some clues about the places he went while he was here. Use the Google form to tell us where you found them.  EB left rewards at the Library for anyone who helps him find his eggs.
X-ALT-DESC;FMTTYPE=text/html:<span style="font-size:14px\;"><span style="font-family:arial\;">The Easter Bunny visited Selbyville and hopped all around town. He didn&#39\;t realize that there was a hole in his basket!&nbsp\; Help EB by finding his eggs.&nbsp\; EB left some clues about the places he went while he was here. Use the Google form to tell us where you found them.&nbsp\; EB left rewards at the Library for anyone who helps him find his eggs.</span></span>
LOCATION:Downtown Selbyville
UID:e.2126.21978
SEQUENCE:3
DTSTAMP:20260424T235847Z
URL:http://business.thequietresorts.com/events/details/selbyville-easter-egg-hunt-21978
END:VEVENT

END:VCALENDAR
