BEGIN:VCALENDAR
VERSION:2.0
PRODID:-//ChamberMaster//Event Calendar 2.0//EN
METHOD:PUBLISH
X-PUBLISHED-TTL:P3D
REFRESH-INTERVAL:P3D
CALSCALE:GREGORIAN
BEGIN:VEVENT
DTSTART:20230313T170000Z
DTEND:20230313T180000Z
X-MICROSOFT-CDO-ALLDAYEVENT:FALSE
SUMMARY:Selbyville Business Forum
DESCRIPTION:The Bethany-Fenwick Area Chamber invites Selbyville businesses to attend an afternoon coffee hour hosted by the Selbyville Public Library on Monday\, March 13th.  If you cannot attend\, you are welcome to send a business representative in your place\, as we will discuss spring initiatives and begin to look forward to fall programming.
X-ALT-DESC;FMTTYPE=text/html:The Bethany-Fenwick Area Chamber invites Selbyville businesses to attend an afternoon coffee hour hosted by the Selbyville Public Library on Monday\, March 13th.&nbsp\; If you cannot attend\, you are welcome to send a business representative in your place\, as we will discuss spring initiatives and begin to look forward to fall programming.
LOCATION:Selbyville Public Library 11 S. Main Street Selbyville\, DE 19975
UID:e.2126.25221
SEQUENCE:3
DTSTAMP:20260421T073819Z
URL:http://business.thequietresorts.com/events/details/selbyville-business-forum-25221
END:VEVENT

END:VCALENDAR
