BEGIN:VCALENDAR
VERSION:2.0
PRODID:-//ChamberMaster//Event Calendar 2.0//EN
METHOD:PUBLISH
X-PUBLISHED-TTL:P3D
REFRESH-INTERVAL:P3D
CALSCALE:GREGORIAN
BEGIN:VEVENT
DTSTART:20230328T123000Z
DTEND:20230328T133000Z
X-MICROSOFT-CDO-ALLDAYEVENT:FALSE
SUMMARY:Seasonal Workforce Community Support Meeting
DESCRIPTION:Are you interested in learning more about seasonal workers through the Bridge USA (formerly J-1) program?  Do you employ students through the Bridge USA program and are you looking for community resources and support?  The Bethany-Fenwick Area Chamber will be hosting an informational resource group and planning session for local businesses and community organizations involved in the Bridge USA program.\n\n\n\nMeeting Objectives: \n\n- Create a resource group for 2023 seasonal workforce planning\n\n- Identify and prioritize needs for a successful seasonal workforce program with Bridge USA\n\n    - Summer 2023\n\n    - Planning Summer 2024\n\n- Discuss and outline a Resource Guide\, outline will be provided
X-ALT-DESC;FMTTYPE=text/html:<span style="font-size:14px\;">Are you interested in learning more about seasonal workers through the Bridge USA (formerly J-1) program?&nbsp\; Do you employ students through the Bridge USA program and are you looking for community resources and support?&nbsp\; The Bethany-Fenwick Area Chamber will be hosting an informational resource group and planning session for local businesses and community organizations involved in the Bridge USA program.<br />\n<br />\nMeeting Objectives:&nbsp\;<br />\n- Create a resource group for 2023 seasonal workforce planning<br />\n- Identify and prioritize needs for a successful seasonal workforce program with Bridge USA</span><br />\n&nbsp\;&nbsp\;<span style="font-size:14px\;">&nbsp\;&nbsp\;- Summer 2023<br />\n&nbsp\;&nbsp\;&nbsp\;&nbsp\;- Planning Summer 2024</span><br />\n<span style="font-size:14px\;">- Discuss and outline a Resource Guide\, outline will be provided&nbsp\;</span><br />\n<br />\n&nbsp\;
LOCATION:Millville Boardwalk 35287 Atlantic Ave. Millville\, DE 19967
UID:e.2126.25276
SEQUENCE:3
DTSTAMP:20260421T055840Z
URL:http://business.thequietresorts.com/events/details/seasonal-workforce-community-support-meeting-25276
END:VEVENT

END:VCALENDAR
