BEGIN:VCALENDAR
VERSION:2.0
PRODID:-//ChamberMaster//Event Calendar 2.0//EN
METHOD:PUBLISH
X-PUBLISHED-TTL:P3D
REFRESH-INTERVAL:P3D
CALSCALE:GREGORIAN
BEGIN:VEVENT
DTSTART:20200331T230000Z
DTEND:20200401T010000Z
X-MICROSOFT-CDO-ALLDAYEVENT:FALSE
SUMMARY:Seascape Creations
DESCRIPTION:Join us for a stunning seascape creation! Create a stunning 8x10 Seascape Window using your sea glass or ours! Seascape Creations instructor Lynda Lowry will help you design your one-of-a-kind seascape using an array of materials\, including sea glass\, starfish\, sand dollars\, and other beach finds. Participants will take home their creations that night to be fused with Seascape Creation's Finishing Kit + Instructions. Includes all materials. Feel free to bring your own beach treasures for a personalized piece!
X-ALT-DESC;FMTTYPE=text/html:<span style="font-size: 14px\;"><span style="font-family: arial\;">Join us for a stunning seascape creation! Create a stunning 8x10 Seascape Window using your sea glass or ours! Seascape Creations instructor Lynda Lowry will help you design your one-of-a-kind seascape using an array of materials\, including sea glass\, starfish\, sand dollars\, and other beach finds. Participants will take home their creations that night to be fused with Seascape Creation&#39\;s Finishing Kit + Instructions. Includes all materials. Feel free to bring your own beach treasures for a personalized piece!</span></span>
LOCATION:Bethany Blues 6 N Pennsylvania Ave Bethany Beach\, DE 19930
UID:e.2126.20126
SEQUENCE:3
DTSTAMP:20260425T225145Z
URL:http://business.thequietresorts.com/events/details/seascape-creations-03-31-2020-20126
END:VEVENT

END:VCALENDAR
