BEGIN:VCALENDAR
VERSION:2.0
PRODID:-//ChamberMaster//Event Calendar 2.0//EN
METHOD:PUBLISH
X-PUBLISHED-TTL:P3D
REFRESH-INTERVAL:P3D
CALSCALE:GREGORIAN
BEGIN:VEVENT
DTSTART:20210828T150000Z
DTEND:20210829T180000Z
X-MICROSOFT-CDO-ALLDAYEVENT:FALSE
SUMMARY:Seaport Saturdays at the Lewes Maritime Museum
DESCRIPTION:Dive into Lewes' past during the town's heyday as a 19th century maritime port. Immerse yourself in daily life in Lewes during the first half of the 19th century and learn about the town's intimate relationship with the sea alongside historic interpreters.
X-ALT-DESC;FMTTYPE=text/html:<span style="font-family:arial\;"><span style="font-size:14px\;">Dive into Lewes&#39\; past during the town&#39\;s heyday as a 19th century maritime port. Immerse yourself in daily life in Lewes during the first half of the 19th century and learn about the town&#39\;s intimate relationship with the sea alongside historic interpreters.</span></span>
LOCATION:Lewes Maritime Museum 118 Front St Lewes\, DE 19958
UID:e.2126.22682
SEQUENCE:3
DTSTAMP:20260424T155647Z
URL:http://business.thequietresorts.com/events/details/seaport-saturdays-at-the-lewes-maritime-museum-08-28-2021-22682
END:VEVENT

END:VCALENDAR
