BEGIN:VCALENDAR
VERSION:2.0
PRODID:-//ChamberMaster//Event Calendar 2.0//EN
METHOD:PUBLISH
X-PUBLISHED-TTL:P3D
REFRESH-INTERVAL:P3D
CALSCALE:GREGORIAN
BEGIN:VEVENT
DTSTART:20230614T213000Z
DTEND:20230614T233000Z
X-MICROSOFT-CDO-ALLDAYEVENT:FALSE
SUMMARY:Sea the Change Celebration and Ribbon Cutting at Bethany Beach Ocean Suites
DESCRIPTION:Please join the Bethany-Fenwick Area Chamber of Commerce and Bethany Beach Ocean Suites team in introducing the newly renovated Bethany Beach Ocean Suites and Via Sophia by the Sea restaurant with a ribbon cutting on Wednesday\, June 14th!  Take a peek at the remodeled space\, enjoy light hors d'oeuvres\, and be a part of the ribbon cutting at 6:00 PM.
X-ALT-DESC;FMTTYPE=text/html:Please join the Bethany-Fenwick Area Chamber of Commerce and Bethany Beach Ocean Suites team in introducing the newly renovated Bethany Beach Ocean Suites and Via Sophia by the Sea restaurant with a ribbon cutting on Wednesday\, June 14th!&nbsp\; Take a peek at the remodeled space\, enjoy light hors d&#39\;oeuvres\, and be a part of the ribbon cutting at 6:00 PM.
LOCATION:Bethany Beach Ocean Suites 99 Hollywood St. Bethany Beach DE\, 19930
UID:e.2126.25891
SEQUENCE:3
DTSTAMP:20260421T004959Z
URL:http://business.thequietresorts.com/events/details/sea-the-change-celebration-and-ribbon-cutting-at-bethany-beach-ocean-suites-25891
END:VEVENT

END:VCALENDAR
