BEGIN:VCALENDAR
VERSION:2.0
PRODID:-//ChamberMaster//Event Calendar 2.0//EN
METHOD:PUBLISH
X-PUBLISHED-TTL:P3D
REFRESH-INTERVAL:P3D
CALSCALE:GREGORIAN
BEGIN:VEVENT
DTSTART:20230507T140000Z
DTEND:20230507T160000Z
X-MICROSOFT-CDO-ALLDAYEVENT:FALSE
SUMMARY:Sea Glass Reimagined – A Workshop with the C-Glass Sisters – 10am & 1pm
DESCRIPTION:Love Sea Glass? This is your opportunity to create your own framed Sea Glass picture. You'll be using Sea Glass handpicked by the C-Glass Sisters from the Eastern Shore coastline. There will be several designs to choose from.\n\nAll materials will be provided along with step by step instructions. Everyone takes home their own unique\, framed masterpiece.\n\nclick here for tickets to the 10am class \n\nclick here for tickets to the 1pm class
X-ALT-DESC;FMTTYPE=text/html:<p>Love Sea Glass? This is your opportunity to create your own framed Sea Glass picture. You&rsquo\;ll be using Sea Glass handpicked by the C-Glass Sisters from the Eastern Shore coastline. There will be several designs to choose from.</p>\n\n<p>All materials will be provided along with step by step instructions. Everyone takes home their own unique\, framed masterpiece.</p>\n\n<p><a href="https://www.eventbrite.com/e/sea-glass-reimagined-a-workshop-with-the-c-glass-sisters-10am-tickets-597844698587">click here for tickets to the 10am class&nbsp\;</a></p>\n\n<p><a href="https://www.eventbrite.com/e/sea-glass-reimagined-a-workshop-with-the-c-glass-sisters-1pm-tickets-597850044577">click here for tickets to the 1pm class</a></p>\n
LOCATION:Inland Bays Garden Center 38320 Muddy Neck Road Frankford\, DE 19945
UID:e.2126.25557
SEQUENCE:3
DTSTAMP:20260421T042400Z
URL:http://business.thequietresorts.com/events/details/sea-glass-reimagined-a-workshop-with-the-c-glass-sisters-10am-25557
END:VEVENT

END:VCALENDAR
