BEGIN:VCALENDAR
VERSION:2.0
PRODID:-//ChamberMaster//Event Calendar 2.0//EN
METHOD:PUBLISH
X-PUBLISHED-TTL:P3D
REFRESH-INTERVAL:P3D
CALSCALE:GREGORIAN
BEGIN:VEVENT
DTSTART:20221127T140000Z
DTEND:20221127T160000Z
X-MICROSOFT-CDO-ALLDAYEVENT:FALSE
SUMMARY:Sea Colony Turkey Trot 5K Run/Walk
DESCRIPTION:The Turkey Trot 5k event benefits Special Olympics Delaware\n\n(SODE)\, a not-for-profit\, volunteer organization offering athletes\n\nwith intellectual disabilities the opportunity to participate in 16\n\ndifferent sports.\n\nNet proceeds from the Turkey Trot help purchase new uniforms\,\n\ntraining\, and equipment for local Special Olympics athletes.\n\n\n\nInterested in being a sponsor? \n\nFor more information\, contact Jen Neal at:\n\nPhone - (302) 546-0025\n\nEmail - jennifer.neal@vacasa.com
X-ALT-DESC;FMTTYPE=text/html:The Turkey Trot 5k event benefits Special Olympics Delaware<br />\n(SODE)\, a not-for-profit\, volunteer organization offering athletes<br />\nwith intellectual disabilities the opportunity to participate in 16<br />\ndifferent sports.<br />\nNet proceeds from the Turkey Trot help purchase new uniforms\,<br />\ntraining\, and equipment for local Special Olympics athletes.<br />\n<br />\nInterested in being a sponsor?&nbsp\;<br />\nFor more information\, contact Jen Neal at:<br />\nPhone - (302) 546-0025<br />\nEmail - jennifer.neal@vacasa.com
LOCATION:Sea Colony Fitness Center 38994 Westway Drive Bethany Beach\, DE 19930
UID:e.2126.24472
SEQUENCE:3
DTSTAMP:20260421T144245Z
URL:http://business.thequietresorts.com/events/details/sea-colony-turkey-trot-5k-run-walk-11-27-2022-24472
END:VEVENT

END:VCALENDAR
