BEGIN:VCALENDAR
VERSION:2.0
PRODID:-//ChamberMaster//Event Calendar 2.0//EN
METHOD:PUBLISH
X-PUBLISHED-TTL:P3D
REFRESH-INTERVAL:P3D
CALSCALE:GREGORIAN
BEGIN:VEVENT
DTSTART:20231126T140000Z
DTEND:20231126T153000Z
X-MICROSOFT-CDO-ALLDAYEVENT:FALSE
SUMMARY:Sea Colony Turkey Trot 5K Run/Walk
DESCRIPTION:The Sea Colony  Turkey Trot 5k event benefits Special Olympics Delaware (SODE)\, a not-for-profit\, volunteer organization offering athletes with intellectual disabilities the opportunity to participate in 16 different sports. Net proceeds from the Turkey Trot help purchase new uniforms\, training\, and equipment for local Special Olympics athletes.
X-ALT-DESC;FMTTYPE=text/html:<span style="color:rgb(3\, 152\, 158)\; font-family:proxima-n-w01-reg\,proxima-n-w05-reg\,sans-serif\; font-size:16px">The Sea Colony&nbsp\; Turkey Trot 5k event benefits Special Olympics Delaware (SODE)\, a not-for-profit\, volunteer organization offering athletes with intellectual disabilities the opportunity to participate in 16 different sports. Net proceeds from the Turkey Trot help purchase new uniforms\, training\, and equipment for local Special Olympics athletes.</span>
LOCATION:Sea Colony Fitness Center 38994 Westway Dr. Bethany Beach\, DE 19930
UID:e.2126.26504
SEQUENCE:3
DTSTAMP:20260420T165859Z
URL:http://business.thequietresorts.com/events/details/sea-colony-turkey-trot-5k-run-walk-11-26-2023-26504
END:VEVENT

END:VCALENDAR
