BEGIN:VCALENDAR
VERSION:2.0
PRODID:-//ChamberMaster//Event Calendar 2.0//EN
METHOD:PUBLISH
X-PUBLISHED-TTL:P3D
REFRESH-INTERVAL:P3D
CALSCALE:GREGORIAN
BEGIN:VEVENT
DTSTART;VALUE=DATE:20230428
DTEND;VALUE=DATE:20230501
TRANSP:TRANSPARENT
X-MICROSOFT-CDO-ALLDAYEVENT:TRUE
SUMMARY:Sea Colony The Journey- Benefits Multiple Myelome Research Foundation
DESCRIPTION:We are excited to announce our inaugural Sea Colony The Journey weekend charitable event to benefit Multiple Myeloma Research Foundation (MMRF)\, April 28-30\, 2023.  The MMRF champions advancement of multiple myeloma therapies\, funding the most promising treatments for this rare form of blood cancer.\n\n\n\nStarting off Friday\, April 28th we will have a free showing of 200 Miles\, an inspiring story of ultra-marathoner and Sea Colony owner\, Eric Gelber\, who attempted to run a record 200 miles around New York's Central Park to raise awareness and $1 million dollars for the MMRF. The documentary will be shown inside the Tennis Center.\n\nFollowed by a Round Robin Tennis and a Pickleball Tournament on Saturday\, April 29th\, and wrapping up with a 5K & 1 Mile Fun Walk on Sunday\, April 30th. Registration Required.
X-ALT-DESC;FMTTYPE=text/html:<span style="font-family:verdana\,sans-serif"><span style="font-size:12pt">We are excited to announce our inaugural Sea Colony The&nbsp\;Journey weekend charitable event to benefit Multiple Myeloma Research Foundation (MMRF)\, April 28-30\, 2023.&nbsp\;<span style="color:#050505">&nbsp\;The MMRF champions advancement of multiple myeloma therapies\, funding the most promising treatments for this rare form of blood cancer.</span></span></span><br />\n<br />\n<span style="color:#050505"><span style="font-family:verdana\,sans-serif"><span style="font-size:12pt">Starting off Friday\, April 28th we will have a free showing of&nbsp\;<em>200 Miles\,&nbsp\;</em>an&nbsp\;inspiring story of ultra-marathoner and Sea Colony owner\, Eric Gelber\, who attempted to run a record 200 miles around New York&#39\;s Central Park to raise awareness and $1 million dollars for the MMRF. The documentary will be shown inside the Tennis Center.</span></span></span><br />\n<span style="color:#050505"><span style="font-size:12pt"><span style="font-family:verdana\,sans-serif">Followed by a Round Robin Tennis and a Pickleball Tournament on Saturday\, April 29th\, and wrapping up with a 5K &amp\; 1 Mile Fun Walk on Sunday\, April 30th. Registration Required.</span></span></span><br />\n&nbsp\;
LOCATION:Sea Colony Tennis Center 39359 Racquet Lane\, Bethany Beach\, DE 19930
UID:e.2126.25174
SEQUENCE:3
DTSTAMP:20260421T040757Z
URL:http://business.thequietresorts.com/events/details/sea-colony-the-journey-benefits-multiple-myelome-research-foundation-25174
END:VEVENT

END:VCALENDAR
