BEGIN:VCALENDAR
VERSION:2.0
PRODID:-//ChamberMaster//Event Calendar 2.0//EN
METHOD:PUBLISH
X-PUBLISHED-TTL:P3D
REFRESH-INTERVAL:P3D
CALSCALE:GREGORIAN
BEGIN:VEVENT
DTSTART:20240427T163000Z
DTEND:20240428T190000Z
X-MICROSOFT-CDO-ALLDAYEVENT:FALSE
SUMMARY:Sea Colony The Journey- Benefits Multiple Myelome Research Foundation
DESCRIPTION:Join us for our 2nd annual weekend of fundraising for the Multiple Myeloma Research Foundation on April 27-28\, 2024! The MMRF champions the advancement of multiple myeloma therapies\, funding the most promising treatments for this rare form of blood cancer.\n\nSaturday\, April 27- Compass Draw Tennis Tournament | 12:30 PM\n\n\n\nSunday\, April 28- 5K & 1 Mile Fun Walk | 8 AM & Compass Draw Pickleball Tournament| 11 AM
X-ALT-DESC;FMTTYPE=text/html:<h3>Join us for our 2nd annual weekend of fundraising for the Multiple Myeloma Research Foundation on April 27-28\, 2024! The MMRF champions the advancement of multiple myeloma therapies\, funding the most promising treatments for this rare form of blood cancer.</h3>\n\n<p><strong><span style="font-family:din-next-w01-light\,din-next-w02-light\,din-next-w10-light\,sans-serif">Saturday\, Apr</span><span style="font-family:din-next-w01-light\,din-next-w02-light\,din-next-w10-light\,sans-serif">il</span><span style="font-family:din-next-w01-light\,din-next-w02-light\,din-next-w10-light\,sans-serif">&nbsp\;27-&nbsp\;</span></strong><span style="color:rgb(0\, 0\, 0)\; font-family:din-next-w01-light\,din-next-w02-light\,din-next-w10-light\,sans-serif"><strong>Compass Draw&nbsp\;</strong></span><span style="color:rgb(0\, 0\, 0)\; font-family:din-next-w01-light\,din-next-w02-light\,din-next-w10-light\,sans-serif"><strong>Tennis Tournament | 12:30 PM</strong></span><br />\n<br />\n<strong style="font-family:din-next-w01-light\,din-next-w02-light\,din-next-w10-light\,sans-serif">Sunday\, April 28-&nbsp\;</strong><strong style="color:rgb(0\, 0\, 0)\; font-family:din-next-w01-light\,din-next-w02-light\,din-next-w10-light\,sans-serif">5K &amp\; 1 Mile Fun Walk | 8 AM &amp\;<span style="font-size:14px">&nbsp\;</span></strong><span style="font-size:14px"><strong style="color:rgb(0\, 0\, 0)\; font-family:din-next-w01-light\,din-next-w02-light\,din-next-w10-light\,sans-serif\; font-weight:700">Compass Draw Pickleball Tournament| 11 AM</strong></span></p>\n
LOCATION:Sea Colony Racquet Sports Center 39359 Racquet Ln. Bethany Beach\, DE 19930
UID:e.2126.28438
SEQUENCE:3
DTSTAMP:20260420T060653Z
URL:http://business.thequietresorts.com/events/details/sea-colony-the-journey-benefits-multiple-myelome-research-foundation-04-27-2024-28438
END:VEVENT

END:VCALENDAR
