BEGIN:VCALENDAR
VERSION:2.0
PRODID:-//ChamberMaster//Event Calendar 2.0//EN
METHOD:PUBLISH
X-PUBLISHED-TTL:P3D
REFRESH-INTERVAL:P3D
CALSCALE:GREGORIAN
BEGIN:VEVENT
DTSTART:20240619T120000Z
DTEND:20240619T160000Z
X-MICROSOFT-CDO-ALLDAYEVENT:FALSE
SUMMARY:Sea Colony Farmers' Market
DESCRIPTION:The Sea Colony Farmers' Market is back for the summer season!  On Wednesdays from 8:00AM - 12:00PM\, June 5th - August 28th\, the market will be open on route 1 at the Sea Colony Marketplace in Bethany Beach. \n\n\n\nFor more information on vendors visit the Bethany Beach Farmers' Market website.
X-ALT-DESC;FMTTYPE=text/html:The Sea Colony Farmers&#39\; Market is back for the summer season!&nbsp\; On Wednesdays from 8:00AM - 12:00PM\, June 5th - August 28th\, the market will be open on route 1 at the Sea Colony Marketplace in Bethany Beach.&nbsp\;<br />\n<br />\nFor more information on vendors visit the <a href="https://bethanybeachfarmersmarket.com/">Bethany Beach Farmers&#39\; Market website.</a>
LOCATION:Sea Colony 33546 Market Pl. Bethany Beach\, DE 19930
UID:e.2126.30232
SEQUENCE:3
DTSTAMP:20260420T091625Z
URL:http://business.thequietresorts.com/events/details/sea-colony-farmers-market-06-19-2024-30232
END:VEVENT

END:VCALENDAR
