BEGIN:VCALENDAR
VERSION:2.0
PRODID:-//ChamberMaster//Event Calendar 2.0//EN
METHOD:PUBLISH
X-PUBLISHED-TTL:P3D
REFRESH-INTERVAL:P3D
CALSCALE:GREGORIAN
BEGIN:VEVENT
DTSTART:20201030T230000Z
DTEND:20201031T020000Z
X-MICROSOFT-CDO-ALLDAYEVENT:FALSE
SUMMARY:Screams At The Beach
DESCRIPTION:Screams At The Beach!!\n\n \n\nWe've heard your screams.  We've heard your cries.  We've heard your pleas.  We've felt your fear.  We've wiped your tears.  At long last\, victims.  The one & only TRUE & original creator of the #1 haunt in the country is OFFICIALLY returning for the 2020 season!  We promised you we'd return with a vengeance & that's exactly what we're doing!  We've worked tirelessly since we've announced our hiatus from our 2018 & 2019 season & please believe when we say it killed us to take that much time off.  But\, We made your wait VERY worth it.  \n\n\n\nThanks to our new partners from The Salted Rim\, together we're unleashing an entirely new Screams At The Beach!  All new attractions!  All new terrors! & most importantly\, all new Screams!  We've moved away from our previous Georgetown location to our BRAND NEW\, year round location in Millville!  That's right! Year. Round. Events!  We've heard your feedback.  We've heard your desires.  We've listened to your input.\n\n \n\nAn all new Screams At The Beach will debut October 2nd 2020!\n\nJoin us at 35553 Atlantic Avenue\, Millville\, DE  19967\n\n \n\nyou survived us before.  Do you dare tempt fate a \n\n2nd time around?\n\n \n\nEvery Friday & Saturday in October\n\nStarts @ 7pm\n\nTickets:  $15.00\n\n\n\nTickets for our 2020 season are on sale now!\n\nGet Tickets Online https://screamsatthebeach.ticketleap.com/\n\n\n\nSee you soon victims.....
X-ALT-DESC;FMTTYPE=text/html:<div style="text-align:center"><span style="font-size:20px"><span style="font-family:comic sans ms"><strong><span style="color:#FF0000">Screams At The Beach!!</span></strong></span></span><br />\n&nbsp\;</div>\n\n<div><span style="font-size:18px"><span style="font-family:comic sans ms">We&#39\;ve heard your screams.&nbsp\; We&#39\;ve heard your cries.&nbsp\; We&#39\;ve heard your pleas.&nbsp\; We&#39\;ve felt your fear.&nbsp\; We&#39\;ve wiped your tears.&nbsp\; At long last\, victims.&nbsp\; The one &amp\; only TRUE &amp\; original creator of the #1 haunt in the country is OFFICIALLY returning for the 2020 season!&nbsp\; We promised you we&#39\;d return with a vengeance &amp\; that&#39\;s exactly what we&#39\;re doing!&nbsp\; We&#39\;ve worked tirelessly since we&#39\;ve announced our hiatus from our 2018 &amp\; 2019 season &amp\; please believe when we say it killed us to take that much time off.&nbsp\; But\, We made your wait VERY worth it.&nbsp\;&nbsp\;<br />\n<br />\nThanks to our new partners from The Salted Rim\, together we&#39\;re unleashing an entirely new Screams At The Beach!&nbsp\; All new attractions!&nbsp\; All new terrors! &amp\; most importantly\, all new Screams!&nbsp\; We&#39\;ve moved away from our previous Georgetown location to our BRAND NEW\, year round location in Millville!&nbsp\; That&#39\;s right! Year. Round. Events!&nbsp\; We&#39\;ve heard your feedback.&nbsp\; We&#39\;ve heard your desires.&nbsp\; We&#39\;ve listened to your input.</span></span><br />\n&nbsp\;</div>\n\n<div style="text-align: center\;"><span style="font-size:18px"><span style="font-family:comic sans ms"><span style="color:#FF0000"><strong>An all new Screams At The Beach will debut October 2nd 2020!<br />\nJoin us at 35553 Atlantic Avenue\, Millville\, DE&nbsp\; 19967</strong></span></span></span></div>\n\n<div>&nbsp\;</div>\n\n<div style="text-align: center\;"><span style="font-size:14px"><span style="font-family:comic sans ms">you survived us before.&nbsp\; Do you dare tempt fate a&nbsp\;<br />\n2nd time around?</span></span></div>\n\n<div>&nbsp\;</div>\n\n<div style="text-align: center\;"><strong><span style="font-size:18px"><span style="font-family:comic sans ms">Every Friday &amp\; Saturday in October<br />\nStarts @ 7pm<br />\nTickets:&nbsp\; $15.00</span></span></strong></div>\n\n<div><br />\n<span style="font-size:18px"><span style="font-family:comic sans ms"><strong>Tickets for our 2020 season are on sale now!<br />\nGet Tickets Online&nbsp\;<a href="https://screamsatthebeach.ticketleap.com/">https://screamsatthebeach.ticketleap.com/<br />\n<br />\nSee you soon victims.....</a></strong></span></span></div>\n
LOCATION:The Salted Rim (new location) 35553 Atlantic Avenue Millville\, DE 19967 302-537-7373
UID:e.2126.21799
SEQUENCE:3
DTSTAMP:20260425T113954Z
URL:http://business.thequietresorts.com/events/details/screams-at-the-beach-10-30-2020-21799
END:VEVENT

END:VCALENDAR
