BEGIN:VCALENDAR
VERSION:2.0
PRODID:-//ChamberMaster//Event Calendar 2.0//EN
METHOD:PUBLISH
X-PUBLISHED-TTL:P3D
REFRESH-INTERVAL:P3D
CALSCALE:GREGORIAN
BEGIN:VEVENT
DTSTART:20200405T143000Z
DTEND:20200405T160000Z
X-MICROSOFT-CDO-ALLDAYEVENT:FALSE
SUMMARY:SBA Economic Injury Disaster Loan Application Review ZOOM Meeting
DESCRIPTION:Jim Provo from the US Small Business Administration - Delaware District is hosting Zoom meetings on completing the EIDL Application twice daily at 10:30 am and again at 8:00 pm Monday through Friday.\n\n\n\nSign up for free at https://zoom.us/ or download the Zoom app for your phone or tablet.\n\n\n\nMEETING ID IS 679 477 2946\n\n\n\nATTENTION: IF YOU APPLIED FOR AN EIDL PRIOR TO MARCH 31ST AND HAVE NOT RECEIVED A CONFIRMATION NUMBER BACK FROM THE SBA \, YOU MUST REAPPLY.
X-ALT-DESC;FMTTYPE=text/html:Jim Provo from the US Small Business Administration - Delaware District is hosting Zoom meetings on completing the EIDL Application twice daily at 10:30 am and again at 8:00 pm Monday through Friday.<br />\n<br />\nSign up for free at <a href="https://zoom.us/">https://zoom.us/</a> or download the Zoom app for your phone or tablet.<br />\n<br />\nMEETING ID IS&nbsp\;679 477 2946<br />\n<br />\n<strong>ATTENTION: IF YOU APPLIED FOR AN EIDL PRIOR TO MARCH 31ST AND HAVE NOT RECEIVED A CONFIRMATION NUMBER BACK FROM THE SBA \, YOU MUST REAPPLY.</strong>
LOCATION:
UID:e.2126.21271
SEQUENCE:3
DTSTAMP:20260425T212924Z
URL:http://business.thequietresorts.com/events/details/sba-economic-injury-disaster-loan-application-review-zoom-meeting-04-05-2020-21271
END:VEVENT

END:VCALENDAR
