BEGIN:VCALENDAR
VERSION:2.0
PRODID:-//ChamberMaster//Event Calendar 2.0//EN
METHOD:PUBLISH
X-PUBLISHED-TTL:P3D
REFRESH-INTERVAL:P3D
CALSCALE:GREGORIAN
BEGIN:VEVENT
DTSTART:20220523T133000Z
DTEND:20220523T150000Z
X-MICROSOFT-CDO-ALLDAYEVENT:FALSE
SUMMARY:SavvyDerm Skin Clinic -Grand Opening & Ribbon Cutting
DESCRIPTION:Join SavvyDerm Skin Clinic for the Grand Opening & Ribbon Cutting of their brand new location in Millville! Stop by and enjoy light refreshments and coffee.\n\n\n\nThe celebration starts at 9:30am and the Ribbon Cutting will take place at 10:00am.
X-ALT-DESC;FMTTYPE=text/html:<span style="color: rgb(37\, 32\, 26)\; font-family: Arial\; font-size: 15px\; background-color: rgb(255\, 255\, 255)\;">Join SavvyDerm Skin Clinic for the Grand Opening &amp\; Ribbon Cutting of their brand new location in Millville! Stop by and enjoy light refreshments and coffee.</span><br style="font-family: Arial\; box-sizing: content-box\; inset: auto\; clear: none\; color: rgb(37\, 32\, 26)\; content: normal\; direction: inherit\; display: inline\; empty-cells: show\; float: none\; font-variant-numeric: inherit\; font-variant-east-asian: inherit\; font-stretch: inherit\; font-size: 15px\; line-height: inherit\; margin: 0px\; max-height: none\; max-width: none\; min-height: initial\; min-width: initial\; opacity: 1\; outline-offset: 0px\; overflow: visible\; padding: 0px\; position: static\; resize: none\; table-layout: auto\; text-overflow: clip\; vertical-align: baseline\; visibility: inherit\; word-break: inherit\; overflow-wrap: inherit\; z-index: auto\; background: none rgb(255\, 255\, 255)\; border-width: initial\; border-style: none\; border-color: initial\; border-collapse: separate\; border-image: none 100% 1 0 / 1 / 0 stretch\; border-radius: 0px\; height: auto\; width: auto\;" />\n<br style="font-family: Arial\; box-sizing: content-box\; inset: auto\; clear: none\; color: rgb(37\, 32\, 26)\; content: normal\; direction: inherit\; display: inline\; empty-cells: show\; float: none\; font-variant-numeric: inherit\; font-variant-east-asian: inherit\; font-stretch: inherit\; font-size: 15px\; line-height: inherit\; margin: 0px\; max-height: none\; max-width: none\; min-height: initial\; min-width: initial\; opacity: 1\; outline-offset: 0px\; overflow: visible\; padding: 0px\; position: static\; resize: none\; table-layout: auto\; text-overflow: clip\; vertical-align: baseline\; visibility: inherit\; word-break: inherit\; overflow-wrap: inherit\; z-index: auto\; background: none rgb(255\, 255\, 255)\; border-width: initial\; border-style: none\; border-color: initial\; border-collapse: separate\; border-image: none 100% 1 0 / 1 / 0 stretch\; border-radius: 0px\; height: auto\; width: auto\;" />\n<span style="color: rgb(37\, 32\, 26)\; font-family: Arial\; font-size: 15px\; background-color: rgb(255\, 255\, 255)\;">The celebration starts at 9:30am and the Ribbon Cutting will take place at 10:00am.&nbsp\;&nbsp\;</span><br style="font-family: Arial\; box-sizing: content-box\; inset: auto\; clear: none\; color: rgb(37\, 32\, 26)\; content: normal\; direction: inherit\; display: inline\; empty-cells: show\; float: none\; font-variant-numeric: inherit\; font-variant-east-asian: inherit\; font-stretch: inherit\; font-size: 15px\; line-height: inherit\; margin: 0px\; max-height: none\; max-width: none\; min-height: initial\; min-width: initial\; opacity: 1\; outline-offset: 0px\; overflow: visible\; padding: 0px\; position: static\; resize: none\; table-layout: auto\; text-overflow: clip\; vertical-align: baseline\; visibility: inherit\; word-break: inherit\; overflow-wrap: inherit\; z-index: auto\; background: none rgb(255\, 255\, 255)\; border-width: initial\; border-style: none\; border-color: initial\; border-collapse: separate\; border-image: none 100% 1 0 / 1 / 0 stretch\; border-radius: 0px\; height: auto\; width: auto\;" />\n<span style="color: rgb(37\, 32\, 26)\; font-family: Arial\; font-size: 15px\; background-color: rgb(255\, 255\, 255)\;">&nbsp\;</span>
LOCATION:SavvyDerm Skin Clinic 32782 Cedar Dr.\, Suite 2 Millville\, DE 19967
UID:e.2126.23663
SEQUENCE:3
DTSTAMP:20260422T001200Z
URL:http://business.thequietresorts.com/events/details/savvyderm-skin-clinic-grand-opening-ribbon-cutting-23663
END:VEVENT

END:VCALENDAR
