BEGIN:VCALENDAR
VERSION:2.0
PRODID:-//ChamberMaster//Event Calendar 2.0//EN
METHOD:PUBLISH
X-PUBLISHED-TTL:P3D
REFRESH-INTERVAL:P3D
CALSCALE:GREGORIAN
BEGIN:VEVENT
DTSTART:20240410T180000Z
DTEND:20240410T193000Z
X-MICROSOFT-CDO-ALLDAYEVENT:FALSE
SUMMARY:Sasha's Jewels - Grand Reopening Ribbon Cutting
DESCRIPTION:Join the Bethany-Fenwick Area Chamber of Commerce on Wednesday\, April 10th\, for a ribbon cutting ceremony to celebrate the Grand Reopening of Sasha's Jewels in Selbyville!  Newly renovated\, Sasha's Jewels provides the community with fine jewelry\, free jewelry evaluations\, jewelry restoration\, and more. \n\n\n\nThe ribbon cutting event will start at 2:00PM with the ribbon to be cut at 3:00PM!  Refreshments will be provided.
X-ALT-DESC;FMTTYPE=text/html:Join the Bethany-Fenwick Area Chamber of Commerce on Wednesday\, April 10th\, for a ribbon cutting ceremony to celebrate the Grand Reopening of Sasha&#39\;s Jewels in Selbyville!&nbsp\; Newly renovated\, Sasha&#39\;s Jewels provides the community with fine jewelry\, free jewelry evaluations\, jewelry restoration\, and more.&nbsp\;<br />\n<br />\nThe ribbon cutting event will start at 2:00PM with the ribbon to be cut at 3:00PM!&nbsp\; Refreshments will be provided.&nbsp\;
LOCATION:202 Gumboro Rd. Selbyville\, DE\, 19975
UID:e.2126.28513
SEQUENCE:3
DTSTAMP:20260420T061635Z
URL:http://business.thequietresorts.com/events/details/sasha-s-jewels-grand-reopening-ribbon-cutting-28513
END:VEVENT

END:VCALENDAR
