BEGIN:VCALENDAR
VERSION:2.0
PRODID:-//ChamberMaster//Event Calendar 2.0//EN
METHOD:PUBLISH
X-PUBLISHED-TTL:P3D
REFRESH-INTERVAL:P3D
CALSCALE:GREGORIAN
BEGIN:VEVENT
DTSTART:20240314T200000Z
DTEND:20240314T220000Z
X-MICROSOFT-CDO-ALLDAYEVENT:FALSE
SUMMARY:Sarge Athletics Bulletproof Pickleball
DESCRIPTION:Join Sarge Athletics for an exciting in-person pickleball session. Whether you're a beginner to the sport or looking to refine your game\, there is something in it for you! Our experienced instructors will provide valuable tips to enhance your pickleball skill set\, review and discuss common injuries and how to prevent them\, and how to have fun while doing so!
X-ALT-DESC;FMTTYPE=text/html:<span style="color: rgb(111\, 114\, 135)\; font-family: &quot\;Neue Plak&quot\;\, -apple-system\, BlinkMacSystemFont\, Roboto\, &quot\;Helvetica Neue&quot\;\, Helvetica\, Tahoma\, Arial\, sans-serif\; font-size: 16px\;">Join Sarge Athletics for an exciting in-person pickleball session. Whether you&#39\;re a beginner to the sport or looking to refine your game\, there is something in it for you! Our experienced instructors will provide valuable tips to enhance your pickleball skill set\, review and discuss common injuries and how to prevent them\, and how to have fun while doing so!</span>
LOCATION:Sarge Athletics at The Stables 699 Bethany Loop Bethany Beach\, DE 19930
UID:e.2126.28441
SEQUENCE:3
DTSTAMP:20260420T073338Z
URL:http://business.thequietresorts.com/events/details/sarge-athletics-bulletproof-pickleball-28441
END:VEVENT

END:VCALENDAR
