BEGIN:VCALENDAR
VERSION:2.0
PRODID:-//ChamberMaster//Event Calendar 2.0//EN
METHOD:PUBLISH
X-PUBLISHED-TTL:P3D
REFRESH-INTERVAL:P3D
CALSCALE:GREGORIAN
BEGIN:VEVENT
DTSTART:20240112T203000Z
DTEND:20240112T220000Z
X-MICROSOFT-CDO-ALLDAYEVENT:FALSE
SUMMARY:Sarge Athletics Bethany Location Grand Opening Ribbon Cutting
DESCRIPTION:Join the Bethany-Fenwick Area Chamber of Commerce on Friday\, January 12th\, 2024 for a ribbon cutting celebrating Sarge Athletics Bethany location grand opening!  The Chamber celebration will start at 3:30PM with the ribbon to be cut at 4:00PM. \n\n\n\nSarge Athletics has planned an entire afternoon of demonstrations and presentations with local business partners from 1:00 - 5:00PM.  Check out the full schedule below and be sure to stop by the event early to support these other Chamber businesses if you're available!  There will be giveaways and door prizes all day\, so bring your business cards!\n\n\n\nTentative Schedule: \n\n1:00PM - Event begins\, Sarge Athletics welcome\n\n1:30PM - Stables cycling studio presentation & partnership\n\n2:00PM - Stride Physical Therapy & Wellness presentation & partnership\n\n2:30PM - Charm City Run presentation & partnership\n\n3:00PM - Lululemon presentation & partnership \n\n3:30PM - Chamber event start time \n\n4:00PM - Ribbon Cutting photo-op\n\n5:00PM - Event end
X-ALT-DESC;FMTTYPE=text/html:Join the Bethany-Fenwick Area Chamber of Commerce on Friday\, January 12th\, 2024 for a ribbon cutting celebrating Sarge Athletics Bethany location grand opening!&nbsp\; The Chamber celebration will start at 3:30PM with the ribbon to be cut at 4:00PM.&nbsp\;<br />\n<br />\nSarge Athletics has planned an entire afternoon of demonstrations and presentations with local business partners from 1:00 - 5:00PM.&nbsp\; Check out the full schedule below and be sure to stop by the event early to support these other Chamber businesses if you&#39\;re available!&nbsp\; There will be giveaways and door prizes all day\, so bring your business cards!<br />\n<br />\nTentative Schedule:&nbsp\;<br />\n1:00PM - Event begins\, Sarge Athletics welcome<br />\n1:30PM - Stables cycling studio presentation &amp\; partnership<br />\n2:00PM - Stride Physical Therapy &amp\; Wellness presentation &amp\; partnership<br />\n2:30PM - Charm City Run presentation &amp\; partnership<br />\n3:00PM - Lululemon presentation &amp\; partnership&nbsp\;<br />\n3:30PM - Chamber event start time&nbsp\;<br />\n4:00PM - Ribbon Cutting photo-op<br />\n5:00PM - Event end<br />\n&nbsp\;
LOCATION:Sarge Athletics - Bethany Beach 699 Bethany Loop Bethany Beach DE 19930
UID:e.2126.27390
SEQUENCE:3
DTSTAMP:20260420T134838Z
URL:http://business.thequietresorts.com/events/details/sarge-athletics-bethany-location-grand-opening-ribbon-cutting-27390
END:VEVENT

END:VCALENDAR
