BEGIN:VCALENDAR
VERSION:2.0
PRODID:-//ChamberMaster//Event Calendar 2.0//EN
METHOD:PUBLISH
X-PUBLISHED-TTL:P3D
REFRESH-INTERVAL:P3D
CALSCALE:GREGORIAN
BEGIN:VEVENT
DTSTART:20231118T223000Z
DTEND:20231119T010000Z
X-MICROSOFT-CDO-ALLDAYEVENT:FALSE
SUMMARY:Santa's Letters Annual Mailbox Delivery Celebration
DESCRIPTION:Come join Santa and us\, along with Millville Fire Department\, at our BIG Red Mailbox Delivery Celebration. The Millville Fire Dept. and Santa will be delivering our mailbox for everyone to put their letters to Santa in. We will have s'mores\, campfires\, hot chocolate\, games\, vendors\, and more. It's always a blast!
X-ALT-DESC;FMTTYPE=text/html:Come join Santa and us\, along with Millville Fire Department\, at our BIG Red Mailbox Delivery Celebration. The Millville Fire Dept. and Santa will be delivering our mailbox for everyone to put their letters to Santa in. We will have s&#39\;mores\, campfires\, hot chocolate\, games\, vendors\, and more. It&#39\;s always a blast!
LOCATION:32828 Reba Rd. Millville\, DE 19967
UID:e.2126.27172
SEQUENCE:3
DTSTAMP:20260420T164743Z
URL:http://business.thequietresorts.com/events/details/santa-s-letters-annual-mailbox-delivery-celebration-27172
END:VEVENT

END:VCALENDAR
