BEGIN:VCALENDAR
VERSION:2.0
PRODID:-//ChamberMaster//Event Calendar 2.0//EN
METHOD:PUBLISH
X-PUBLISHED-TTL:P3D
REFRESH-INTERVAL:P3D
CALSCALE:GREGORIAN
BEGIN:VEVENT
DTSTART:20211113T233000Z
DTEND:20211114T010000Z
X-MICROSOFT-CDO-ALLDAYEVENT:FALSE
SUMMARY:Santa's Letters 3rd Annual Mailbox Ceremony
DESCRIPTION:Join Santa's Letters on Saturday\, November 13\, for the 3rd Annual Mailbox Ceremony. The mailbox will be delivered by Santa and Mrs. Claus along with Millville Fire Dept. on November 13th from 630-8pm. In attendance will be Sherman from The Delmarva Shorebirds\, The Mayor of Dagsboro\, Santa and Mrs. Claus\, Millville Fire Dept. and possibly a few more surprise guests. We will have firepits to roast S'mores and some hot chocolate. Join us for a for one awesome night and bring your letters for Santa. Oh yeah don't forget your return address.
X-ALT-DESC;FMTTYPE=text/html:<span style="font-size:14px\;"><span style="font-family:arial\;">Join Santa&#39\;s Letters on Saturday\, November 13\, for the 3rd Annual Mailbox Ceremony. The mailbox will be delivered by Santa and Mrs. Claus along with Millville Fire Dept. on November 13th from 630-8pm. In attendance will be Sherman from The Delmarva Shorebirds\, The Mayor of Dagsboro\, Santa and Mrs. Claus\, Millville Fire Dept. and possibly a few more surprise guests. We will have firepits to roast S&#39\;mores and some hot chocolate. Join us for a for one awesome night and bring your letters for Santa. Oh yeah don&#39\;t forget your return address.</span></span>
LOCATION:2 Windward Way Dagsboro\, DE 19939
UID:e.2126.23097
SEQUENCE:3
DTSTAMP:20260424T102258Z
URL:http://business.thequietresorts.com/events/details/santa-s-letters-3rd-annual-mailbox-ceremony-23097
END:VEVENT

END:VCALENDAR
