BEGIN:VCALENDAR
VERSION:2.0
PRODID:-//ChamberMaster//Event Calendar 2.0//EN
METHOD:PUBLISH
X-PUBLISHED-TTL:P3D
REFRESH-INTERVAL:P3D
CALSCALE:GREGORIAN
BEGIN:VEVENT
DTSTART:20211202T200000Z
DTEND:20211202T230000Z
X-MICROSOFT-CDO-ALLDAYEVENT:FALSE
SUMMARY:Salted Vines - Retiree Happy Hour
DESCRIPTION:Salted Vines Vineyard & Winery\n\n32512 Blackwater Road\n\nFrankford\, DE 19945\n\n" 7 before 7 " Retiree Happy Hour with Live Music\n\n$7 Glasses of Wine\n\n$7 Wine Flights\n\n$7 Wine Slushies\n\n( Bottle Purchases Not Included )
X-ALT-DESC;FMTTYPE=text/html:<strong>Salted Vines Vineyard &amp\; Winery<br />\n32512 Blackwater Road<br />\nFrankford\, DE 19945<br />\n&quot\; 7 before 7 &quot\; <em>Retiree Happy Hour with Live Music</em></strong><br />\n$7 Glasses of Wine<br />\n$7 Wine Flights<br />\n$7 Wine Slushies<br />\n( Bottle Purchases Not Included )
LOCATION:32512 Blackwater Road Frankford\, DE 19958
UID:e.2126.23074
SEQUENCE:3
DTSTAMP:20260424T105039Z
URL:http://business.thequietresorts.com/events/details/salted-vines-retiree-happy-hour-12-02-2021-23074
END:VEVENT

END:VCALENDAR
