BEGIN:VCALENDAR
VERSION:2.0
PRODID:-//ChamberMaster//Event Calendar 2.0//EN
METHOD:PUBLISH
X-PUBLISHED-TTL:P3D
REFRESH-INTERVAL:P3D
CALSCALE:GREGORIAN
BEGIN:VEVENT
DTSTART:20240414T040000Z
DTEND:20240414T110000Z
X-MICROSOFT-CDO-ALLDAYEVENT:FALSE
SUMMARY:Salted Vines' First Annual Lower Slower Delaware Festival
DESCRIPTION:Join us for our First Annual Lower Slower Delaware Festival - a day of WINE\, MUSIC\, SHOPPING & FUN!\n\n \n\nOur family friendly festival is FREE to the public and doesn't require a ticket to attend.\n\n \n\nTo start the festivities off we are hosting a Vendor Village from 12-5pm where you can shop with some the BEST local businesses. \n\n \n\nMusic starts at 12pm with the fabulous Cathy Jane performing until 3pm. Then from 4-7pm\, we are excited to announce that Love Seed Mama Jump will be here giving a FREE concert! \n\n \n\nThroughout the day\, SIX food trucks will be here serving up delicious food including: Tipsy Flamingo\, La Cucina Fast Italian\, Locos Pink Taco\, Hammer & Horns\, The Frozen Farmer\, Flippin' Waffles!\n\n \n\nAnd last\, but certainly not least\, we will be re-releasing one of our most popular wines and our festival's namesake\, Lower Slower Delaware!\n\n \n\nSalted Vines will be donating a portion of the day's sales to Cancer Support Community of Delaware.
X-ALT-DESC;FMTTYPE=text/html:<div>Join us for our First Annual Lower Slower Delaware Festival - a day of WINE\, MUSIC\, SHOPPING &amp\; FUN!<br />\n&nbsp\;</div>\n\n<div>Our family friendly festival is FREE to the public and doesn&#39\;t require a ticket to attend.<br />\n&nbsp\;</div>\n\n<div>To start the festivities off we are hosting a Vendor Village from 12-5pm where you can shop with some the BEST local businesses.&nbsp\;<br />\n&nbsp\;</div>\n\n<div>Music starts at 12pm with the fabulous Cathy Jane performing until 3pm. Then from 4-7pm\, we are excited to announce that Love Seed Mama Jump will be here giving a FREE concert!&nbsp\;<br />\n&nbsp\;</div>\n\n<div>Throughout the day\, SIX food trucks will be here serving up delicious food including: Tipsy Flamingo\, La Cucina Fast Italian\, Locos Pink Taco\, Hammer &amp\; Horns\, The Frozen Farmer\, Flippin&#39\; Waffles!<br />\n&nbsp\;</div>\n\n<div>And last\, but certainly not least\, we will be re-releasing one of our most popular wines and our festival&#39\;s namesake\, Lower Slower Delaware!<br />\n&nbsp\;</div>\n\n<div>Salted Vines will be donating a portion of the day&#39\;s sales to Cancer Support Community of Delaware.</div>\n
LOCATION:Salted Vines Vineyard & Winery 32512 Blackwater Road Frankford\, DE 19945
UID:e.2126.28684
SEQUENCE:3
DTSTAMP:20260420T061250Z
URL:http://business.thequietresorts.com/events/details/salted-vines-first-annual-lower-slower-delaware-festival-28684
END:VEVENT

END:VCALENDAR
