BEGIN:VCALENDAR
VERSION:2.0
PRODID:-//ChamberMaster//Event Calendar 2.0//EN
METHOD:PUBLISH
X-PUBLISHED-TTL:P3D
REFRESH-INTERVAL:P3D
CALSCALE:GREGORIAN
BEGIN:VEVENT
DTSTART:20200706T160000Z
DTEND:20200930T160000Z
X-MICROSOFT-CDO-ALLDAYEVENT:FALSE
SUMMARY:Salem United Methodist Church
DESCRIPTION:Due to the COVID 19 Virus\, all Birthday Skating Parties and Salem Center Hall rental have been suspended. No reservations will be acceptable. Salem United Methodist Church is committed to keeping everyone safe.
X-ALT-DESC;FMTTYPE=text/html:<span style="font-size: 14px\;"><span style="font-family: arial\;">Due to the COVID 19 Virus\, all Birthday Skating Parties and Salem Center Hall rental have been suspended. No reservations will be acceptable. Salem United Methodist Church is committed to keeping everyone safe.</span></span>
LOCATION:Salem United Methodist Church 29 West Church Street Selbyville\, DE 19975
UID:e.2126.21687
SEQUENCE:3
DTSTAMP:20260425T131314Z
URL:http://business.thequietresorts.com/events/details/salem-united-methodist-church-21687
END:VEVENT

END:VCALENDAR
