BEGIN:VCALENDAR
VERSION:2.0
PRODID:-//ChamberMaster//Event Calendar 2.0//EN
METHOD:PUBLISH
X-PUBLISHED-TTL:P3D
REFRESH-INTERVAL:P3D
CALSCALE:GREGORIAN
BEGIN:VEVENT
DTSTART:20221013T230000Z
DTEND:20221016T003000Z
X-MICROSOFT-CDO-ALLDAYEVENT:FALSE
SUMMARY:Salazar
DESCRIPTION:Anthony Salazar developed his skill in the art of magic at a very young age and has since made this part of show business his life's work. Anthony was born in the Philippines and\, at the age of ten\, moved to America\, where he would soon discover a book that would open his world to the art of magic. At 13\, he moved to a town with a nearby magic shop where he would spend hours every day learning his craft. After high school\, he started performing full-time professionally and never looked back. He would go on to perform his carefully blended combination of comedy\, illusions\, and award-winning sleight-of-hand for thousands. He also works as a magic consultant for commercials and television shows. Anthony has the ability to connect with crowds from millennials to baby boomers. His onstage persona is a combination of a slight edge and likability that wins over the hearts of audiences anywhere. He now performs regularly in casinos\, resorts\, and theaters worldwide. All performances are subject to change.
X-ALT-DESC;FMTTYPE=text/html:<span style="color:rgb(0\, 0\, 0)\; font-family:tahoma\,geneva\,sans-serif\; font-size:14px">Anthony Salazar developed his skill in the art of magic at a very young age and has since made this part of show business his life&rsquo\;s work. Anthony was born in the Philippines and\, at the age of ten\, moved to America\, where he would soon discover a book that would open his world to the art of magic. At 13\, he moved to a town with a nearby magic shop where he would spend hours every day learning his craft. After high school\, he started performing full-time professionally and never looked back. He would go on to perform his carefully blended combination of comedy\, illusions\, and award-winning sleight-of-hand for thousands. He also works as a magic consultant for commercials and television shows. Anthony has the ability to connect with crowds from millennials to baby boomers. His onstage persona is a combination of a slight edge and likability that wins over the hearts of audiences anywhere. He now performs regularly in casinos\, resorts\, and theaters worldwide. All performances are subject to change.</span>
LOCATION:Dickens Parlour Theatre 31810 Good Earth Lane Ocean View\, DE 19970
UID:e.2126.24186
SEQUENCE:3
DTSTAMP:20260421T160447Z
URL:http://business.thequietresorts.com/events/details/salazar-24186
END:VEVENT

END:VCALENDAR
