BEGIN:VCALENDAR
VERSION:2.0
PRODID:-//ChamberMaster//Event Calendar 2.0//EN
METHOD:PUBLISH
X-PUBLISHED-TTL:P3D
REFRESH-INTERVAL:P3D
CALSCALE:GREGORIAN
BEGIN:VEVENT
DTSTART:20240313T170000Z
DTEND:20240313T180000Z
X-MICROSOFT-CDO-ALLDAYEVENT:FALSE
SUMMARY:Safe Banking for Seniors at Georgetown Public Library
DESCRIPTION:Fulton Bank's Safe Banking for Seniors program is designed to provide information tailored to the unique needs of older adult customers. This initiative incorporates enhanced fraud protection measures\, personalized financial education\, and compassionate representatives to ensure seniors can confidently manage their accounts. Additionally\, the program emphasizes transparent communication\, offering accessible customer support and educational resources to empower seniors in making informed financial decisions.
X-ALT-DESC;FMTTYPE=text/html:<p>Fulton Bank&rsquo\;s Safe Banking for Seniors program is designed to provide information tailored to the unique needs of older adult customers. This initiative incorporates enhanced fraud protection measures\, personalized financial education\, and compassionate representatives to ensure seniors can confidently manage their accounts. Additionally\, the program emphasizes transparent communication\, offering accessible customer support and educational resources to empower seniors in making informed financial decisions.</p>\n
LOCATION:Georgetown Public Library 123 West Pine St. Georgetown\, DE 19947
UID:e.2126.28272
SEQUENCE:3
DTSTAMP:20260420T073427Z
URL:http://business.thequietresorts.com/events/details/safe-banking-for-seniors-at-georgetown-public-library-28272
END:VEVENT

END:VCALENDAR
