BEGIN:VCALENDAR
VERSION:2.0
PRODID:-//ChamberMaster//Event Calendar 2.0//EN
METHOD:PUBLISH
X-PUBLISHED-TTL:P3D
REFRESH-INTERVAL:P3D
CALSCALE:GREGORIAN
BEGIN:VEVENT
DTSTART:20240511T160000Z
DTEND:20240511T183000Z
X-MICROSOFT-CDO-ALLDAYEVENT:FALSE
SUMMARY:Roxana Volunteer Fire Co. Crawfish Boil
DESCRIPTION:Tickets and sponsorship opportunities are available for the Crawfish Boil at Roxana Volunteer Fire Co. on May 11th!\n\n\n\nLimited entry tickets are available. Purchase your entry ticket before April 15th and receive 2 free raffle tickets.\n\n\n\nTickets cost:\n\n$55 - raffle ticket\, food\, and beer\n\n$25 - non-entry ticket - raffle ticket for all main prizes\n\n$25 - Ages 12 and under - food only\n\n\n\nPrize list attached.\n\n\n\nSponsorship Opportunities:\n\n	Cash Giveaway Sponsor $500\n	Raffle Sponsor $1000\n	Deluxe Raffle Sponsor $1500\n	Crawfish Co-Sponsor $2500\n	Crawfish Sponsor $5000\n\nFor more information or to become a sponsor\, contact Colleen at 302-436-2300 or colleen@roxana90.com.
X-ALT-DESC;FMTTYPE=text/html:<span style="color:#FF0000\;"><span style="font-size:14px\;"><strong>Tickets and sponsorship opportunities are available for the Crawfish Boil at Roxana Volunteer Fire Co. on May 11th!</strong></span></span><br />\n<br />\nLimited entry tickets are available. Purchase your entry ticket before April 15th and receive 2 free raffle tickets.<br />\n<br />\nTickets cost:<br />\n$55 - raffle ticket\, food\, and beer<br />\n$25 - non-entry ticket - raffle ticket for all main prizes<br />\n$25 - Ages 12 and under - food only<br />\n<br />\nPrize list attached.<br />\n<br />\nSponsorship Opportunities:\n<ul>\n	<li>Cash Giveaway Sponsor $500</li>\n	<li>Raffle Sponsor $1000</li>\n	<li>Deluxe Raffle Sponsor $1500</li>\n	<li>Crawfish Co-Sponsor $2500</li>\n	<li>Crawfish Sponsor $5000</li>\n</ul>\nFor more information or to become a sponsor\, contact Colleen at 302-436-2300 or colleen@roxana90.com.
LOCATION:Roxana Volunteer Fire Co. 35943 Zion Church Rd. Frankford\, DE 19945
UID:e.2126.28672
SEQUENCE:3
DTSTAMP:20260420T041903Z
URL:http://business.thequietresorts.com/events/details/roxana-volunteer-fire-co-crawfish-boil-28672
END:VEVENT

END:VCALENDAR
