BEGIN:VCALENDAR
VERSION:2.0
PRODID:-//ChamberMaster//Event Calendar 2.0//EN
METHOD:PUBLISH
X-PUBLISHED-TTL:P3D
REFRESH-INTERVAL:P3D
CALSCALE:GREGORIAN
BEGIN:VEVENT
DTSTART:20230513T160000Z
DTEND:20230513T210000Z
X-MICROSOFT-CDO-ALLDAYEVENT:FALSE
SUMMARY:Roxana Vol Fire Company & Indian River Ducks Unlimited 2023 Crawfish Boil & Gun Bash
DESCRIPTION:Roxana Volunteer Fire Company & Indian River Ducks Unlimited\n\nCrawfish Boil & Gun Bash \n\nSaturday May 13\, 2023\n\nNoon - 5pm\n\nLive Entertainment\, also Pulled Pork Sandwiches\, Wings\, Beer & more!\n\nSilent & Live Auction Items\n\nLocation:\n\nRoxana Volunteer Fire Company\n\n35943 Zion Church Rd\n\nFrankford DE 19945\n\n$55 includes Entry (which is also a Raffle Ticket)\n\n$25 Raffle Only Ticket for all Main Prizes  \n\nPurchase your Entry Ticket before April 15th and receive 2 free raffle tickets!\n\nTickets available at www.irducks.org or  https://www.clover.com/online-ordering/roxana-volunteer-fire-co-frankford
X-ALT-DESC;FMTTYPE=text/html:<p><strong><span style="color:black\; font-family:arial\,sans-serif\; font-size:inherit">Roxana Volunteer Fire Company &amp\; Indian River Ducks Unlimited</span></strong><br />\n<strong><span style="color:black\; font-family:arial\,sans-serif\; font-size:inherit"><span style="color:inherit">Crawfish</span><span style="color:inherit">&nbsp\;</span>Boil &amp\; Gun Bash&nbsp\;</span></strong><br />\n<strong><span style="color:black\; font-family:arial\,sans-serif\; font-size:inherit">Saturday May 13\, 2023<br />\nNoon - 5pm<br />\nLive Entertainment\, also Pulled Pork Sandwiches\, Wings\, Beer &amp\; more!<br />\nSilent &amp\; Live Auction Items<br />\nLocation:<br />\nRoxana Volunteer Fire Company<br />\n35943 Zion Church Rd<br />\nFrankford DE 19945</span></strong><br />\n<span style="color:black\; font-family:arial\,sans-serif\; font-size:inherit">$55 includes Entry (which is also a Raffle Ticket)</span><br />\n<span style="color:black\; font-family:arial\,sans-serif\; font-size:inherit">$25 Raffle Only Ticket for all Main Prizes&nbsp\;&nbsp\;<br />\nPurchase your Entry Ticket before April 15th and receive 2 free raffle tickets!</span><br />\n<span style="color:black\; font-family:arial\,sans-serif\; font-size:inherit">Tickets available at</span><span style="color:inherit\; font-family:arial\,sans-serif\; font-size:inherit">&nbsp\;</span><span style="color:black"><a class="x_x_ContentPasted0 x_ContentPasted0" href="https://nam11.safelinks.protection.outlook.com/?url=http%3A%2F%2Fwww.irducks.org%2F&amp\;data=04%7C01%7Ctdeemer%40ducks.org%7C0aee73adbf664586a69508d91589e6a6%7C2430c44f94924e6fa57d32257ab4c515%7C0%7C0%7C637564504292438513%7CUnknown%7CTWFpbGZsb3d8eyJWIjoiMC4wLjAwMDAiLCJQIjoiV2luMzIiLCJBTiI6Ik1haWwiLCJXVCI6Mn0%3D%7C1000&amp\;sdata=lyC5BbMbbJI68fez1KrcyJqgpKEDX%2FDPon1T2AuYdvo%3D&amp\;reserved=0" rel="noopener noreferrer" style="border: 0px\; font: inherit\; margin: 0px\; padding: 0px\; vertical-align: baseline\;" target="_blank"><span style="color:inherit\; font-family:arial\,sans-serif\; font-size:inherit">www.irducks.org</span></a></span><span style="color:black\; font-family:arial\,sans-serif\; font-size:inherit"><span style="color:inherit">&nbsp\;</span>or&nbsp\;</span><span style="color:black\; font-family:arial\,sans-serif\; font-size:inherit">&nbsp\;</span><a class="x_x_ContentPasted0 x_ContentPasted0" href="https://nam11.safelinks.protection.outlook.com/?url=https%3A%2F%2Fwww.clover.com%2Fonline-ordering%2Froxana-volunteer-fire-co-frankford&amp\;data=04%7C01%7Ctdeemer%40ducks.org%7C0aee73adbf664586a69508d91589e6a6%7C2430c44f94924e6fa57d32257ab4c515%7C0%7C0%7C637564504292448508%7CUnknown%7CTWFpbGZsb3d8eyJWIjoiMC4wLjAwMDAiLCJQIjoiV2luMzIiLCJBTiI6Ik1haWwiLCJXVCI6Mn0%3D%7C1000&amp\;sdata=F2pb%2B6NoEh8GFjbK1wtuUQnkuCeBy2s8C00G7skRagg%3D&amp\;reserved=0" rel="noopener noreferrer" style="font: inherit\; border: 0px\; margin: 0px\; padding: 0px\; vertical-align: baseline\;" target="_blank">https://www.clover.com/online-ordering/roxana-volunteer-fire-co-frankford</a><span style="color:black\; font-family:arial\,sans-serif\; font-size:inherit">&nbsp\;</span></p>\n
LOCATION:Roxana Volunteer Fire Company 35943 Zion Church Rd Frankford DE 19945
UID:e.2126.25342
SEQUENCE:3
DTSTAMP:20260421T023919Z
URL:http://business.thequietresorts.com/events/details/roxana-vol-fire-company-indian-river-ducks-unlimited-2023-crawfish-boil-gun-bash-25342
END:VEVENT

END:VCALENDAR
