BEGIN:VCALENDAR
VERSION:2.0
PRODID:-//ChamberMaster//Event Calendar 2.0//EN
METHOD:PUBLISH
X-PUBLISHED-TTL:P3D
REFRESH-INTERVAL:P3D
CALSCALE:GREGORIAN
BEGIN:VEVENT
DTSTART:20221105T140000Z
DTEND:20221105T180000Z
X-MICROSOFT-CDO-ALLDAYEVENT:FALSE
SUMMARY:Roxana Fire Department Auxiliary Car & Tractor Show
DESCRIPTION:Roxana Fire Department Auxiliary\n\nAntique\, Classic Car & Tractor Show\n\n\n\n50/50\, Raffle\, Chinese Auction\, Vendors\n\n*****Oyster Sandwiches*****\n\nBreakfast & Lunch Served
X-ALT-DESC;FMTTYPE=text/html:<div style="text-align: center\;"><span style="font-size:14px\;"><span style="font-family:arial\;">Roxana Fire Department Auxiliary</span></span></div>\n\n<div style="text-align: center\;"><span style="font-size:14px\;"><span style="font-family:arial\;"><strong>Antique\, Classic Car &amp\; Tractor Show</strong><br />\n<br />\n50/50\, Raffle\, Chinese Auction\, Vendors<br />\n<em>*****Oyster Sandwiches*****</em><br />\nBreakfast &amp\; Lunch Served</span></span><br />\n&nbsp\;</div>\n\n<div style="text-align: center\;">&nbsp\;</div>\n
LOCATION:Roxana Fire Company 35943 Zion Church Rd Roxana\, DE 19945
UID:e.2126.24523
SEQUENCE:3
DTSTAMP:20260421T142124Z
URL:http://business.thequietresorts.com/events/details/roxana-fire-department-auxiliary-car-tractor-show-24523
END:VEVENT

END:VCALENDAR
