BEGIN:VCALENDAR
VERSION:2.0
PRODID:-//ChamberMaster//Event Calendar 2.0//EN
METHOD:PUBLISH
X-PUBLISHED-TTL:P3D
REFRESH-INTERVAL:P3D
CALSCALE:GREGORIAN
BEGIN:VEVENT
DTSTART:20230401T230000Z
DTEND:20230402T000000Z
X-MICROSOFT-CDO-ALLDAYEVENT:FALSE
SUMMARY:Dickens Parlour Theatre Presents: Ross Johnson
DESCRIPTION:Mind reader\, magician\, clairvoyant\, fortune teller\, telepath\, mentalist Ross Johnson is all of these things and more! Ross Johnson's performances offer a unique insight into the incredible power of the intuitive mind. Combining elements of extrasensory perception\, magic and mind over matter\, Ross provides his audiences with an entertaining and highly interactive performance. As the world's top entertainer in the areas of the psychic and arcane by the International Psychic Entertainers Association.
X-ALT-DESC;FMTTYPE=text/html:<p><span style="font-family:arial\;"><span style="font-size:14px\;">Mind reader\, magician\, clairvoyant\, fortune teller\, telepath\, mentalist&hellip\;Ross Johnson is all of these things and more!&nbsp\;<span style="color:rgb(51\, 67\, 102)">Ross Johnson&#39\;s performances offer a unique insight into the incredible power of the intuitive mind. Combining elements of extrasensory perception\, magic and mind over matter\, Ross provides his audiences with an entertaining and highly interactive performance. A</span>s the world&rsquo\;s top entertainer in the areas of the psychic and arcane by the International Psychic Entertainers Association.</span></span></p>\n
LOCATION:Dickens Parlour Theatre 31810 Good Earth Lane Ocean View\, DE 19970
UID:e.2126.25281
SEQUENCE:3
DTSTAMP:20260421T040340Z
URL:http://business.thequietresorts.com/events/details/ross-johnson-04-01-2023-25281
END:VEVENT

END:VCALENDAR
