BEGIN:VCALENDAR
VERSION:2.0
PRODID:-//ChamberMaster//Event Calendar 2.0//EN
METHOD:PUBLISH
X-PUBLISHED-TTL:P3D
REFRESH-INTERVAL:P3D
CALSCALE:GREGORIAN
BEGIN:VEVENT
DTSTART:20191216T220000Z
DTEND:20191217T000000Z
X-MICROSOFT-CDO-ALLDAYEVENT:FALSE
SUMMARY:Ropewalk Christmas Party
DESCRIPTION:Come to Ropewalk in down town Bethany Beach for their 2019 Christmas Party on Monday\, December 16\, from 5:00 - 7:00 p.m. Enjoy half price drinks and a free buffet. Ropewalk will be accepting canned goods and non perishable foods for a local food bank.
X-ALT-DESC;FMTTYPE=text/html:<span style="font-family: arial\;"><span style="font-size: 14px\;">Come to Ropewalk in down town Bethany Beach for their 2019 Christmas Party on Monday\, December 16\, from 5:00 - 7:00 p.m. Enjoy half price drinks and a free buffet. Ropewalk will be accepting canned goods and non perishable foods for a local food bank.</span></span>
LOCATION:Ropewalk Bethany Beach 107 Garfield Parkway Bethany Beach\, DE 19930
UID:e.2126.19428
SEQUENCE:3
DTSTAMP:20260426T034442Z
URL:http://business.thequietresorts.com/events/details/ropewalk-christmas-party-19428
END:VEVENT

END:VCALENDAR
