BEGIN:VCALENDAR
VERSION:2.0
PRODID:-//ChamberMaster//Event Calendar 2.0//EN
METHOD:PUBLISH
X-PUBLISHED-TTL:P3D
REFRESH-INTERVAL:P3D
CALSCALE:GREGORIAN
BEGIN:VEVENT
DTSTART:20230923T223000Z
DTEND:20230924T010000Z
X-MICROSOFT-CDO-ALLDAYEVENT:FALSE
SUMMARY:Ronstadt Revue
DESCRIPTION:It takes an extraordinary singer to cover every style of music that Linda Ronstadt performed during her illustrious 40+ year career. Gesenia Gerena grew up in a bilingual household\, singing both Spanish and English songs since her earliest days. With her 6-piece band of world-class musicians (some of whom have backed such notables as Aretha Franklin\, Smokey Robinson\, and Andrea Bocelli)\, she brings a remarkably authentic experience to every show. \n\nFrom the beloved Blue Bayou and powerful You're No Good\, to the soulful Eagles ballad Desperado\, standards such as I've Got a Crush on You and even chart-topping Spanish tunes such as Perfidia\, Gesenia doesn't just channel Ronstadt's vibrant sound. She embodies her very spirit (indeed\, so much so\, that three of Ms. Ronstadt's own former band members now endorse the band and two of them are co-producing the group's upcoming album.
X-ALT-DESC;FMTTYPE=text/html:<p>It takes an extraordinary singer to cover every style of music that Linda Ronstadt performed during her illustrious 40+ year career. Gesenia Gerena grew up in a bilingual household\, singing both Spanish and English songs since her earliest days. With her 6-piece band of world-class musicians (some of whom have backed such notables as Aretha Franklin\, Smokey Robinson\, and Andrea Bocelli)\, she brings a remarkably authentic experience to every show.&nbsp\;</p>\n\n<p>From the beloved <em>Blue Bayou</em> and powerful <em>You&#39\;re No Good</em>\, to the soulful Eagles ballad <em>Desperado</em>\, standards such as <em>I&#39\;ve Got a Crush on You</em> and even chart-topping Spanish tunes such as <em>Perfidia</em>\, Gesenia doesn&#39\;t just channel Ronstadt&#39\;s vibrant sound. She embodies her very spirit (indeed\, so much so\, that three of Ms. Ronstadt&#39\;s own former band members now endorse the band and two of them are co-producing the group&#39\;s upcoming album.</p>\n
LOCATION:Bethany Beach Bandstand
UID:e.2126.26635
SEQUENCE:3
DTSTAMP:20260420T195957Z
URL:http://business.thequietresorts.com/events/details/ronstadt-revue-09-23-2023-26635
END:VEVENT

END:VCALENDAR
