BEGIN:VCALENDAR
VERSION:2.0
PRODID:-//ChamberMaster//Event Calendar 2.0//EN
METHOD:PUBLISH
X-PUBLISHED-TTL:P3D
REFRESH-INTERVAL:P3D
CALSCALE:GREGORIAN
BEGIN:VEVENT
DTSTART;VALUE=DATE:20211009
DTEND;VALUE=DATE:20211011
TRANSP:TRANSPARENT
X-MICROSOFT-CDO-ALLDAYEVENT:TRUE
SUMMARY:River Soccer Club Columbus Day Classic Tournament
DESCRIPTION:Join Over 100 youth teams for the Mid Atlantic region for River Soccer's Columbus Day Classic Tournament. This tournament is for boys and girls ages 9-14. For more information\, visit riversoccer.com.
X-ALT-DESC;FMTTYPE=text/html:<span style="font-family:arial\;"><span style="font-size:14px\;">Join Over 100 youth teams for the Mid Atlantic region for River Soccer&#39\;s Columbus Day Classic Tournament. This tournament is for boys and girls ages 9-14. For more information\, visit riversoccer.com.</span></span>
LOCATION:River Soccer Club 32221 Gum Rd Frankford\, DE 19945
UID:e.2126.22819
SEQUENCE:3
DTSTAMP:20260424T121241Z
URL:http://business.thequietresorts.com/events/details/river-soccer-club-columbus-day-classic-tournament-22819
END:VEVENT

END:VCALENDAR
