BEGIN:VCALENDAR
VERSION:2.0
PRODID:-//ChamberMaster//Event Calendar 2.0//EN
METHOD:PUBLISH
X-PUBLISHED-TTL:P3D
REFRESH-INTERVAL:P3D
CALSCALE:GREGORIAN
BEGIN:VEVENT
DTSTART;VALUE=DATE:20210925
DTEND;VALUE=DATE:20210926
TRANSP:TRANSPARENT
X-MICROSOFT-CDO-ALLDAYEVENT:TRUE
SUMMARY:River Soccer Club Activity Day
DESCRIPTION:Join the River Soccer Club on Saturday\, September 25\, for their all day fun activities. Fun and games for all ages\, food\, watch recreational league play\, and merchandise will be available for sale. This event is open to the community to see what River Soccer is all about
X-ALT-DESC;FMTTYPE=text/html:<span style="font-family:arial\;"><span style="font-size:14px\;">Join the River Soccer Club on Saturday\, September 25\, for their all day fun activities. Fun and games for all ages\, food\, watch recreational league play\, and merchandise will be available for sale. This event is open to the community to see what River Soccer is all about</span></span>
LOCATION:River Soccer Club 32221 Gum Rd Frankford\, DE 19945
UID:e.2126.22818
SEQUENCE:3
DTSTAMP:20260424T134740Z
URL:http://business.thequietresorts.com/events/details/river-soccer-club-activity-day-22818
END:VEVENT

END:VCALENDAR
