BEGIN:VCALENDAR
VERSION:2.0
PRODID:-//ChamberMaster//Event Calendar 2.0//EN
METHOD:PUBLISH
X-PUBLISHED-TTL:P3D
REFRESH-INTERVAL:P3D
CALSCALE:GREGORIAN
BEGIN:VEVENT
DTSTART;VALUE=DATE:20210924
DTEND;VALUE=DATE:20210926
TRANSP:TRANSPARENT
X-MICROSOFT-CDO-ALLDAYEVENT:TRUE
SUMMARY:River Soccer Club 25th Anniversary
DESCRIPTION:Join the River Soccer Club on Friday\, September 24\, and Saturday\, September 25\, to celebrate their 25th Anniversary.\n\n\n\nFriday\, September 24\n\nSocial at the Fields\n\n	River Soccer Club will host a fun social at the soccer complex from 6:00 pm - 9:00 pm. Open to all adults who have participated in any way at River Soccer over the years. Food and adult beverages will be provided and watch a game under the lights. You must be over 21 to attend.\n\n\n\nSaturday\, September 25\n\nFamily Fun Day\n\n\n	Bring the whole family for a fun filled day with food\, games\, activities\, exhibit of our history\, merchandise and much more from 9:00 am - 3:00 pm. No need to RSVP for this event
X-ALT-DESC;FMTTYPE=text/html:<span style="font-family:arial\;"><span style="font-size:14px\;">Join the River Soccer Club on Friday\, September 24\, and Saturday\, September 25\, to celebrate their 25th Anniversary.<br />\n<br />\nFriday\, September 24<br />\nSocial at the Fields</span></span>\n<ul>\n	<li><span style="font-family:arial\;"><span style="font-size:14px\;">River Soccer Club will host a fun social at the soccer complex from 6:00 pm - 9:00 pm. Open to all adults who have participated in any way at River Soccer over the years. Food and adult beverages will be provided and watch a game under the lights. You must be over 21 to attend.</span></span></li>\n</ul>\n<br />\n<span style="font-family:arial\;"><span style="font-size:14px\;">Saturday\, September 25<br />\nFamily Fun Day</span></span>\n\n<ul>\n	<li><span style="font-family:arial\;"><span style="font-size:14px\;">Bring the whole family for a fun filled day with food\, games\, activities\, exhibit of our history\, merchandise and much more from 9:00 am - 3:00 pm. No need to RSVP for this event</span></span></li>\n</ul>\n
LOCATION:River Soccer Club 32221 Gum Rd Frankford\, DE 19945
UID:e.2126.22816
SEQUENCE:3
DTSTAMP:20260424T134959Z
URL:http://business.thequietresorts.com/events/details/river-soccer-club-25th-anniversary-22816
END:VEVENT

END:VCALENDAR
