BEGIN:VCALENDAR
VERSION:2.0
PRODID:-//ChamberMaster//Event Calendar 2.0//EN
METHOD:PUBLISH
X-PUBLISHED-TTL:P3D
REFRESH-INTERVAL:P3D
CALSCALE:GREGORIAN
BEGIN:VEVENT
DTSTART;VALUE=DATE:20240624
DTEND;VALUE=DATE:20240629
TRANSP:TRANSPARENT
X-MICROSOFT-CDO-ALLDAYEVENT:TRUE
SUMMARY:River Soccer Camp
DESCRIPTION:The River Soccer Camp will focus on the foundation of soccer\, technical skills. This program brings a fun energetic approach to developing these skills\, through engaging activities and games. Our goal is to instill lifetime lasting love and passion for the beautiful game. \n\n\n\nYouth Camp (Ages 8 to 12: 9:00am-12:30pm) and Kinder Camp (Ages 5 to 7: 6:00pm-7:15pm) programs available.  \n\n\n\nRegister today - camp registration
X-ALT-DESC;FMTTYPE=text/html:<span style="color:rgb(0\, 0\, 0)\; font-family:lato\,arial\,helvetica\,sans-serif\; font-size:14px">The River Soccer Camp will focus on the foundation of soccer\, technical skills. This program brings a fun energetic approach to developing these skills\, through engaging activities and games. Our goal is to instill lifetime lasting love and passion for the beautiful game.&nbsp\;<br />\n<br />\nYouth Camp (Ages 8 to 12: 9:00am-12:30pm) and Kinder Camp (Ages 5 to 7: 6:00pm-7:15pm) programs available.&nbsp\;</span><span style="color:rgb(0\, 0\, 0)\; font-family:lato\,arial\,helvetica\,sans-serif">&nbsp\;</span><br />\n<br />\n<span style="font-size:14px"><span style="color:rgb(0\, 0\, 0)\; font-family:lato\,arial\,helvetica\,sans-serif">Register today -&nbsp\;</span><a href="#" style="font-family: lato\, arial\, helvetica\, sans-serif\; font-size: 12px\;">camp registration</a></span>
LOCATION:River Soccer Club Complex 32221 Gum Road Frankford\, DE
UID:e.2126.28356
SEQUENCE:3
DTSTAMP:20260420T090842Z
URL:http://business.thequietresorts.com/events/details/river-soccer-camp-06-24-2024-28356
END:VEVENT

END:VCALENDAR
