BEGIN:VCALENDAR
VERSION:2.0
PRODID:-//ChamberMaster//Event Calendar 2.0//EN
METHOD:PUBLISH
X-PUBLISHED-TTL:P3D
REFRESH-INTERVAL:P3D
CALSCALE:GREGORIAN
BEGIN:VEVENT
DTSTART:20231022T223000Z
DTEND:20231023T010000Z
X-MICROSOFT-CDO-ALLDAYEVENT:FALSE
SUMMARY:Rick K Road Trip
DESCRIPTION:Acclaimed as "America's Most Exciting Show Band"\, Rick K. Road Trip has performed in over 36 states across the U.S. In 2012 the act traveled internationally with a tour of Russia proving great music is universal!\n\nPerforming an exciting and unique blend of high energy rock n' roll from the 1960s through today\, Rick K. brings a Las Vegas professionalism and class to every venue. From Beatles to KC & The Sunshine Band\, Four Tops to Santana\, Enrique Iglesias to Michael Buble\, there is something for everyone.\n\nNot just another "cover band'\, Rick K. Road Trip make each song their own with a flashy and exciting rendition of the greatest rock n' roll hits of all time. A rock n' roll revue beyond compare!\n\nFrom Las Vegas to New York\, corporate to the fairgrounds\, Rick K. Road Trip brings one-of- a- kind entertainment to your event. It's a show you don't want to miss.
X-ALT-DESC;FMTTYPE=text/html:<p>Acclaimed as &ldquo\;America&rsquo\;s Most Exciting Show Band&rdquo\;\, Rick K. Road Trip has performed in over 36 states across the U.S. In 2012 the act traveled internationally with a tour of Russia proving great music is universal!</p>\n\n<p>Performing an exciting and unique blend of high energy rock n&rsquo\; roll from the 1960s through today\, Rick K. brings a Las Vegas professionalism and class to every venue. From Beatles to KC &amp\; The Sunshine Band\, Four Tops to Santana\, Enrique Iglesias to Michael Buble\, there is something for everyone.</p>\n\n<p>Not just another &ldquo\;cover band&rsquo\;\, Rick K. Road Trip make each song their own with a flashy and exciting rendition of the greatest rock n&rsquo\; roll hits of all time. A rock n&rsquo\; roll revue beyond compare!</p>\n\n<p>From Las Vegas to New York\, corporate to the fairgrounds\, Rick K. Road Trip brings one-of- a- kind entertainment to your event. It&rsquo\;s a show you don&rsquo\;t want to miss.</p>\n
LOCATION:Bethany Beach Bandstand
UID:e.2126.26644
SEQUENCE:3
DTSTAMP:20260420T182816Z
URL:http://business.thequietresorts.com/events/details/rick-k-road-trip-26644
END:VEVENT

END:VCALENDAR
