BEGIN:VCALENDAR
VERSION:2.0
PRODID:-//ChamberMaster//Event Calendar 2.0//EN
METHOD:PUBLISH
X-PUBLISHED-TTL:P3D
REFRESH-INTERVAL:P3D
CALSCALE:GREGORIAN
BEGIN:VEVENT
DTSTART:20230428T230000Z
DTEND:20230429T000000Z
X-MICROSOFT-CDO-ALLDAYEVENT:FALSE
SUMMARY:Rich Bloch
DESCRIPTION:Rich entertains audiences worldwide\, including corporate events and cruise lines\, in Las Vegas and Atlantic City. Rich is a two-time recipient of the coveted "Blackstone Award" from the International Platform Association\, a six-time nominee for Stage Magician of the Year\, and is a 2006 Fellowship recipient at Hollywood's famed Magic Castle. Rich is also a magician's magician. He has invented over 80 magic effects\, many of which were sold through Rich's magic manufacturing studio\, "Collectors' Workshop" where each effect was hand-made by artisans on a farm in Middleburg\, Virginia. Very early in his magic career\, Rich served as a scriptwriter and magic consultant to the legendary Orson Welles\, who referred to Rich as "an Edison of Magic."
X-ALT-DESC;FMTTYPE=text/html:<span style="color:rgb(0\, 0\, 0)\; font-family:helvetica\,arial\,sans-serif">&nbsp\;Rich entertains audiences worldwide\, including corporate events and cruise lines\, in Las Vegas and Atlantic City. Rich is a two-time recipient of the coveted &ldquo\;Blackstone Award&rdquo\; from the International Platform Association\, a six-time nominee for Stage Magician of the Year\, and is a 2006 Fellowship recipient at Hollywood&rsquo\;s famed Magic Castle. Rich is also a magician&rsquo\;s magician. He has invented over 80 magic effects\, many of which were sold through Rich&rsquo\;s magic manufacturing studio\, &ldquo\;Collectors&rsquo\; Workshop&rdquo\; where each effect was hand-made by artisans on a farm in Middleburg\, Virginia. Very early in his magic career\, Rich served as a scriptwriter and magic consultant to the legendary Orson Welles\, who referred to Rich as &ldquo\;an Edison of Magic.&rdquo\;</span>
LOCATION:DIckens Parlour Theatre
UID:e.2126.25344
SEQUENCE:3
DTSTAMP:20260421T040355Z
URL:http://business.thequietresorts.com/events/details/rich-bloch-04-28-2023-25344
END:VEVENT

END:VCALENDAR
