BEGIN:VCALENDAR
VERSION:2.0
PRODID:-//ChamberMaster//Event Calendar 2.0//EN
METHOD:PUBLISH
X-PUBLISHED-TTL:P3D
REFRESH-INTERVAL:P3D
CALSCALE:GREGORIAN
BEGIN:VEVENT
DTSTART:20220518T130000Z
DTEND:20220518T140000Z
X-MICROSOFT-CDO-ALLDAYEVENT:FALSE
SUMMARY:Ribbon Cutting - ProMortgage
DESCRIPTION:Join ProMortgage for their Ribbon Cutting ceremony on Wednesday\, May 18th at 9:00am. \n\nComplimentary breakfast sandwiches and coffee will be served. And ProMortgage will \n\nbe raffling off a $100 Sodel Gift Card so come early to sign up for the raffle!\n\n\n\nThe celebration starts at 9:00am and the actual Ribbon Cutting will take place at 9:30. The $100 gift card raffle will immediately follow the ribbon cutting ceremony.
X-ALT-DESC;FMTTYPE=text/html:<span style="color:#25201A\;"><span style="font-family:arial\,sans-serif\;"><span style="font-size:10.5pt\;">Join ProMortgage for their Ribbon Cutting ceremony on Wednesday\, May 18th at 9:00am. </span></span></span><br />\n<span style="color:#333333\;"><span style="font-family:arial\,sans-serif\;"><span style="font-size:10.5pt\;"><span style="font-variant-ligatures:normal\;font-variant-caps:normal\;orphans:2\;text-align:start\;widows:2\;-webkit-text-stroke-width:0px\;text-decoration-thickness:initial\;text-decoration-style:initial\;word-spacing:0px\;">Complimentary breakfast sandwiches and coffee will be served. And ProMortgage will&nbsp\;<br />\nbe raffling off a $100 Sodel Gift Card so come early to sign up for the raffle!</span><br />\n<br />\n<span style="background:white\;"><span style="color:#25201A\;"><span style="font-family:arial\,sans-serif\;"><span style="font-size:10.5pt\;">The celebration starts at 9:00am and the actual Ribbon Cutting will take place at 9:30. The $100 gift card raffle will immediately follow the ribbon cutting ceremony. </span></span></span></span></span></span></span><br />\n&nbsp\;
LOCATION:ProMortgage 117 Atlantic Ave. Ste. G Ocean View\, DE 19970
UID:e.2126.23627
SEQUENCE:3
DTSTAMP:20260422T001022Z
URL:http://business.thequietresorts.com/events/details/ribbon-cutting-promortgage-23627
END:VEVENT

END:VCALENDAR
