BEGIN:VCALENDAR
VERSION:2.0
PRODID:-//ChamberMaster//Event Calendar 2.0//EN
METHOD:PUBLISH
X-PUBLISHED-TTL:P3D
REFRESH-INTERVAL:P3D
CALSCALE:GREGORIAN
BEGIN:VEVENT
DTSTART:20230412T160000Z
DTEND:20230412T173000Z
X-MICROSOFT-CDO-ALLDAYEVENT:FALSE
SUMMARY:Ribbon Cutting McKee Builders- Friendship Creek Dog Park
DESCRIPTION:Join McKee Builders for the Grand Opening & Ribbon Cutting of their brand new Dog Park at Friendship Creek!  The celebration starts at noon and the actual Ribbon Cutting will take place at 1:00pm.  Refreshments will be provided!
X-ALT-DESC;FMTTYPE=text/html:<span style="font-family:arial\;"><span style="font-size:14px\;">Join McKee Builders for the Grand Opening &amp\; Ribbon Cutting of their brand new Dog Park at Friendship Creek!&nbsp\; The celebration starts at noon and the actual Ribbon Cutting will take place at 1:00pm.&nbsp\; Refreshments will be provided!</span></span><br />\n&nbsp\;
LOCATION:McKee Builders - Friendship Creek Dog Park 35053 Dundee Street Frankford\, DE 19945
UID:e.2126.25290
SEQUENCE:3
DTSTAMP:20260421T060502Z
URL:http://business.thequietresorts.com/events/details/ribbon-cutting-mckee-builders-friendship-creek-dog-park-25290
END:VEVENT

END:VCALENDAR
