BEGIN:VCALENDAR
VERSION:2.0
PRODID:-//ChamberMaster//Event Calendar 2.0//EN
METHOD:PUBLISH
X-PUBLISHED-TTL:P3D
REFRESH-INTERVAL:P3D
CALSCALE:GREGORIAN
BEGIN:VEVENT
DTSTART:20220511T160000Z
DTEND:20220511T170000Z
X-MICROSOFT-CDO-ALLDAYEVENT:FALSE
SUMMARY:Ribbon Cutting McKee Builders- Friendship Creek
DESCRIPTION:Join McKee Builders for the Grand Opening & Ribbon Cutting of their brand new model homes at Friendship Creek! Stop in and enjoy light refreshments\, take a tour of our new model homes\, and enter the door prize drawing for a chance to win a $100 gift card to 99 Sea Level in Bethany. \n\n\n\nThe celebration starts at noon and the actual Ribbon Cutting will take place at 12:30.  The ribbon cutting ceremony will end at 1:00pm\, but the model homes will remain open until 5:00pm for self-guided tours.
X-ALT-DESC;FMTTYPE=text/html:Join McKee Builders for the Grand Opening &amp\; Ribbon Cutting of their brand new model homes at Friendship Creek! Stop in and enjoy light refreshments\, take a tour of our new model homes\, and enter the door prize drawing for a chance to win a $100 gift card to 99 Sea Level in Bethany.&nbsp\;<br />\n<br />\nThe celebration starts at noon and the actual Ribbon Cutting will take place at 12:30.&nbsp\; The ribbon cutting ceremony will end at 1:00pm\, but the model homes will remain open until 5:00pm for self-guided tours.&nbsp\;&nbsp\;<br />\n&nbsp\;
LOCATION:McKee Builders - Friendship Creek Model Homes 35053 Dundee Street Frankford\, DE 19945
UID:e.2126.23615
SEQUENCE:3
DTSTAMP:20260422T001043Z
URL:http://business.thequietresorts.com/events/details/ribbon-cutting-mckee-builders-friendship-creek-23615
END:VEVENT

END:VCALENDAR
