BEGIN:VCALENDAR
VERSION:2.0
PRODID:-//ChamberMaster//Event Calendar 2.0//EN
METHOD:PUBLISH
X-PUBLISHED-TTL:P3D
REFRESH-INTERVAL:P3D
CALSCALE:GREGORIAN
BEGIN:VEVENT
DTSTART:20220614T203000Z
DTEND:20220614T223000Z
X-MICROSOFT-CDO-ALLDAYEVENT:FALSE
SUMMARY:Ribbon Cutting - Grand Re-Opening Hotel Bethany Beach
DESCRIPTION:Hotel Bethany Beach is excited to celebrate their Grand Re-Opening! \n\nYou are cordially invited on Tuesday\, June 14th at 4:30 pm to the Ribbon-Cutting and Grand Re-Opening celebration at the Hotel Behany Beach.\n\n\n\nEnjoy refreshments served compliments of Mickey's Family Crab House\, and live entertainment performed by Caribbean Vibe Steel Drum Band.  And for a little extra fun you can test out your putting skills with the hole-in-one contest at Nick's Mini Golf.  \n\n\n\nAgenda:\n\n	430pm: Guests arrive\, band begins to play\n	5pm: Speakers - Mayor Hardiman and Ben Gray \n	530pm: Ribbon cutting with property staff\, city officials (Chamber exec/staff\, mayor and commissioners)\n	Remaining hour for food/property tours/etc\n\nHotel Bethany Beach is looking forward to sharing thier new look with the community and being a premier destination for tourists visiting the Delaware beaches.
X-ALT-DESC;FMTTYPE=text/html:<span style="font-size: 14px\;"><span style="font-family: arial\;"><strong>Hotel Bethany Beach is excited to celebrate their Grand Re-Opening!&nbsp\;</strong><br />\nYou are cordially invited on Tuesday\, June 14th at 4:30 pm to the Ribbon-Cutting and Grand Re-Opening celebration at the Hotel Behany Beach.</span></span><br />\n<br />\n<span style="font-family: arial\; font-size: 14px\;">Enjoy refreshments served compliments of Mickey&#39\;s Family Crab House\, and live entertainment performed by Caribbean Vibe Steel Drum Band.&nbsp\; And for a little extra fun you can test out your putting skills with the hole-in-one contest at Nick&#39\;s Mini Golf.&nbsp\;&nbsp\;</span><br />\n<br />\nAgenda:\n<ul>\n	<li style="color:black\;background:white\;"><span style="font-family:times new roman\,serif\;">430pm: Guests arrive\, band begins to play</span></li>\n	<li style="color:black\;background:white\;"><span style="font-family:times new roman\,serif\;">5pm: Speakers - Mayor Hardiman and Ben Gray&nbsp\;</span></li>\n	<li style="color:black\;background:white\;"><span style="font-family:times new roman\,serif\;">530pm: Ribbon cutting with property staff\, city officials (Chamber exec/staff\, mayor and commissioners)</span></li>\n	<li style="color:black\;background:white\;"><span style="font-family:times new roman\,serif\;">Remaining hour for food/property tours/etc</span></li>\n</ul>\n<span style="font-size: 14px\;"><span style="font-family: arial\;">Hotel Bethany Beach is looking forward to sharing thier new look with the community and being a premier destination for tourists visiting the Delaware beaches.&nbsp\;</span></span>\n\n<hr /><br />\n&nbsp\;
LOCATION:Hotel Bethany Beach 39642 Jefferson Bridge Rd. Bethany Beach\, DE 19930
UID:e.2126.23633
SEQUENCE:3
DTSTAMP:20260422T001022Z
URL:http://business.thequietresorts.com/events/details/ribbon-cutting-grand-re-opening-hotel-bethany-beach-23633
END:VEVENT

END:VCALENDAR
