BEGIN:VCALENDAR
VERSION:2.0
PRODID:-//ChamberMaster//Event Calendar 2.0//EN
METHOD:PUBLISH
X-PUBLISHED-TTL:P3D
REFRESH-INTERVAL:P3D
CALSCALE:GREGORIAN
BEGIN:VEVENT
DTSTART:20220916T150000Z
DTEND:20220916T180000Z
X-MICROSOFT-CDO-ALLDAYEVENT:FALSE
SUMMARY:Ribbon Cutting/Grand Opening The Climate Experts of Delmarva
DESCRIPTION:Ribbon Cutting/Grand Opening \n\nThe Climate Experts of Delmarva September 16th\n\nStop by and enjoy Pulled Pork Sandwiches and Refreshments with us!
X-ALT-DESC;FMTTYPE=text/html:Ribbon Cutting/Grand Opening&nbsp\;<br />\nThe Climate Experts of Delmarva September 16th<br />\nStop by and enjoy Pulled Pork Sandwiches and Refreshments with us!
LOCATION:35849 Atlantic Ave Unit 1 Millville\, DE 19967
UID:e.2126.24084
SEQUENCE:3
DTSTAMP:20260421T173425Z
URL:http://business.thequietresorts.com/events/details/ribbon-cutting-grand-opening-the-climate-experts-of-delmarva-24084
END:VEVENT

END:VCALENDAR
