BEGIN:VCALENDAR
VERSION:2.0
PRODID:-//ChamberMaster//Event Calendar 2.0//EN
METHOD:PUBLISH
X-PUBLISHED-TTL:P3D
REFRESH-INTERVAL:P3D
CALSCALE:GREGORIAN
BEGIN:VEVENT
DTSTART:20220815T150000Z
DTEND:20220815T170000Z
X-MICROSOFT-CDO-ALLDAYEVENT:FALSE
SUMMARY:Ribbon Cutting - Fyzical Therapy and Balance Centers
DESCRIPTION:Join Fyzical Therapy and Balance Centers for the Ribbon Cutting of their newest location in Bethany Beach! Stop by and enjoy music and food from Big Fish. \n\n\n\nThe celebration starts at 11:00 am and the Ribbon Cutting will take place at 11:30 am.
X-ALT-DESC;FMTTYPE=text/html:<span style="font-family: Arial\; box-sizing: content-box\; inset: auto\; clear: none\; color: rgb(37\, 32\, 26)\; content: normal\; direction: inherit\; empty-cells: show\; font-variant-numeric: inherit\; font-variant-east-asian: inherit\; font-stretch: inherit\; font-size: 15px\; line-height: inherit\; margin: 0px\; max-height: none\; max-width: none\; min-height: initial\; min-width: initial\; opacity: 1\; outline-offset: 0px\; overflow: visible\; padding: 0px\; position: static\; resize: none\; table-layout: auto\; text-overflow: clip\; vertical-align: baseline\; visibility: inherit\; word-break: inherit\; overflow-wrap: inherit\; z-index: auto\; background: none rgb(255\, 255\, 255)\; border-width: initial\; border-style: none\; border-color: initial\; border-collapse: separate\; border-image: none 100% 1 0 / 1 / 0 stretch\; border-radius: 0px\; height: auto\; width: auto\; box-shadow: none\;">Join Fyzical Therapy and Balance Centers for the Ribbon Cutting of their newest location in Bethany Beach! Stop by and enjoy music and food from Big Fish.&nbsp\;</span><br style="font-family: Arial\; box-sizing: content-box\; inset: auto\; clear: none\; color: rgb(37\, 32\, 26)\; content: normal\; direction: inherit\; display: inline\; empty-cells: show\; float: none\; font-variant-numeric: inherit\; font-variant-east-asian: inherit\; font-stretch: inherit\; font-size: 15px\; line-height: inherit\; margin: 0px\; max-height: none\; max-width: none\; min-height: initial\; min-width: initial\; opacity: 1\; outline-offset: 0px\; overflow: visible\; padding: 0px\; position: static\; resize: none\; table-layout: auto\; text-overflow: clip\; vertical-align: baseline\; visibility: inherit\; word-break: inherit\; overflow-wrap: inherit\; z-index: auto\; background: none rgb(255\, 255\, 255)\; border-width: initial\; border-style: none\; border-color: initial\; border-collapse: separate\; border-image: none 100% 1 0 / 1 / 0 stretch\; border-radius: 0px\; height: auto\; width: auto\;" />\n<br style="font-family: Arial\; box-sizing: content-box\; inset: auto\; clear: none\; color: rgb(37\, 32\, 26)\; content: normal\; direction: inherit\; display: inline\; empty-cells: show\; float: none\; font-variant-numeric: inherit\; font-variant-east-asian: inherit\; font-stretch: inherit\; font-size: 15px\; line-height: inherit\; margin: 0px\; max-height: none\; max-width: none\; min-height: initial\; min-width: initial\; opacity: 1\; outline-offset: 0px\; overflow: visible\; padding: 0px\; position: static\; resize: none\; table-layout: auto\; text-overflow: clip\; vertical-align: baseline\; visibility: inherit\; word-break: inherit\; overflow-wrap: inherit\; z-index: auto\; background: none rgb(255\, 255\, 255)\; border-width: initial\; border-style: none\; border-color: initial\; border-collapse: separate\; border-image: none 100% 1 0 / 1 / 0 stretch\; border-radius: 0px\; height: auto\; width: auto\;" />\n<span style="font-family: Arial\; box-sizing: content-box\; inset: auto\; clear: none\; color: rgb(37\, 32\, 26)\; content: normal\; direction: inherit\; empty-cells: show\; font-variant-numeric: inherit\; font-variant-east-asian: inherit\; font-stretch: inherit\; font-size: 15px\; line-height: inherit\; margin: 0px\; max-height: none\; max-width: none\; min-height: initial\; min-width: initial\; opacity: 1\; outline-offset: 0px\; overflow: visible\; padding: 0px\; position: static\; resize: none\; table-layout: auto\; text-overflow: clip\; vertical-align: baseline\; visibility: inherit\; word-break: inherit\; overflow-wrap: inherit\; z-index: auto\; background: none rgb(255\, 255\, 255)\; border-width: initial\; border-style: none\; border-color: initial\; border-collapse: separate\; border-image: none 100% 1 0 / 1 / 0 stretch\; border-radius: 0px\; height: auto\; width: auto\; box-shadow: none\;">The celebration starts at 11:00 am and the Ribbon Cutting will take place at 11:30 am.&nbsp\;&nbsp\;</span>
LOCATION:699 Bethany Loop Unit #3 Bethany Beach\, DE 19930
UID:e.2126.23751
SEQUENCE:3
DTSTAMP:20260421T191133Z
URL:http://business.thequietresorts.com/events/details/ribbon-cutting-fyzical-therapy-and-balance-centers-23751
END:VEVENT

END:VCALENDAR
