BEGIN:VCALENDAR
VERSION:2.0
PRODID:-//ChamberMaster//Event Calendar 2.0//EN
METHOD:PUBLISH
X-PUBLISHED-TTL:P3D
REFRESH-INTERVAL:P3D
CALSCALE:GREGORIAN
BEGIN:VEVENT
DTSTART:20221104T193000Z
DTEND:20221104T203000Z
X-MICROSOFT-CDO-ALLDAYEVENT:FALSE
SUMMARY:Ribbon Cutting for Oceans View's Bocce Ball Courts
DESCRIPTION:Join the Ocean View Mayor and Council as they officially open the new courts\, welcome the Special Olympics Delaware team and thank Natelli Communities\, LP for its generous support!
X-ALT-DESC;FMTTYPE=text/html:Join the Ocean View Mayor and Council as they officially open the new courts\, welcome the Special Olympics Delaware team and thank Natelli Communities\, LP for its generous support!
LOCATION:John West Park 32 West Ave. Ocean View\, DE
UID:e.2126.24773
SEQUENCE:3
DTSTAMP:20260421T142123Z
URL:http://business.thequietresorts.com/events/details/ribbon-cutting-for-oceans-view-s-bocce-ball-courts-24773
END:VEVENT

END:VCALENDAR
