BEGIN:VCALENDAR
VERSION:2.0
PRODID:-//ChamberMaster//Event Calendar 2.0//EN
METHOD:PUBLISH
X-PUBLISHED-TTL:P3D
REFRESH-INTERVAL:P3D
CALSCALE:GREGORIAN
BEGIN:VEVENT
DTSTART:20240109T203000Z
DTEND:20240109T220000Z
X-MICROSOFT-CDO-ALLDAYEVENT:FALSE
SUMMARY:Ribbon Cutting for Beebe Primary Care in Selbyille
DESCRIPTION:Join Beebe Healthcare in celebrating the new\n\nPrimary Care Office in Selbyville!\n \n\nBeebe Healthcare is pleased to invite you to the ribbon cutting for Beebe Primary Care Selbyville. The ribbon cutting will be held at 3:30 p.m. which will be followed by tours.  \n\n \n\nYou'll be able to meet\, Darlene Haupt\, DO\, and Jessica Hammond\, FNP\, who see patients at this new location along with David Tam\, MD\, Beebe President & CEO\, executive leaders\, and the care team that make a difference in patients' lives. \n\n \n\nPlease RSVP at the link below.\n\n\n\nFor questions\, email: beebenews@beebehealthcare.org.
X-ALT-DESC;FMTTYPE=text/html:<h2 style="margin: 0px\; padding: 0px\; width: 560px\; line-height: 1.25\; font-family: &quot\;Segoe UI&quot\;\, Arial\, sans-serif\; font-size: 22px\; text-align: center\;"><span style="color: rgb(29\, 67\, 135)\;">Join Beebe Healthcare in&nbsp\;celebrating the&nbsp\;new</span></h2>\n\n<h2 style="margin: 0px\; padding: 0px\; width: 560px\; line-height: 1.25\; font-family: &quot\;Segoe UI&quot\;\, Arial\, sans-serif\; font-size: 22px\; text-align: center\;"><span style="color: rgb(29\, 67\, 135)\;">Primary Care Office in Selbyville!</span></h2>\n&nbsp\;\n\n<p style="margin: 0px\; padding: 0px\; width: 560px\; line-height: 1.25\; font-family: &quot\;Segoe UI&quot\;\, Arial\, sans-serif\; font-size: 14px\; color: rgb(0\, 0\, 0)\;"><span style="font-size: 16px\;"><span style="color: rgb(29\, 67\, 135)\;">Beebe Healthcare is pleased to invite you to the ribbon cutting for Beebe Primary Care Selbyville. The ribbon cutting will be held at 3:30 p.m. which will be followed by tours. &nbsp\;</span></span></p>\n\n<p style="margin: 0px\; padding: 0px\; width: 560px\; line-height: 1.25\; font-family: &quot\;Segoe UI&quot\;\, Arial\, sans-serif\; font-size: 14px\; color: rgb(0\, 0\, 0)\;">&nbsp\;</p>\n\n<p style="margin: 0px\; padding: 0px\; width: 560px\; line-height: 1.25\; font-family: &quot\;Segoe UI&quot\;\, Arial\, sans-serif\; font-size: 14px\; color: rgb(0\, 0\, 0)\;"><span style="font-size: 16px\;"><span style="color: rgb(29\, 67\, 135)\;">You&rsquo\;ll be able to meet\, Darlene Haupt\, DO\, and Jessica Hammond\, FNP\, who see patients at this new location along with David Tam\, MD\, Beebe President &amp\; CEO\, executive leaders\, and the care team that make a difference in&nbsp\;patients&rsquo\; lives.&nbsp\;</span></span></p>\n\n<p style="margin: 0px\; padding: 0px\; width: 560px\; line-height: 1.25\; font-family: &quot\;Segoe UI&quot\;\, Arial\, sans-serif\; font-size: 14px\; color: rgb(0\, 0\, 0)\; text-align: center\;">&nbsp\;</p>\n\n<p style="margin: 0px\; padding: 0px\; width: 560px\; line-height: 1.25\; font-family: &quot\;Segoe UI&quot\;\, Arial\, sans-serif\; font-size: 14px\; color: rgb(0\, 0\, 0)\;"><span style="font-size: 16px\;"><span style="font-family: Calibri\, sans-serif\;"><span style="color: rgb(29\, 67\, 135)\;">Please RSVP at the link below.<br />\n<br />\nFor questions\, email:&nbsp\;</span><a href="mailto:beebenews@beebehealthcare.org" style="font-family: &quot\;Segoe UI&quot\;\, Arial\, sans-serif\; font-size: 14px\; color: rgb(5\, 99\, 193)\;"><span style="color: rgb(29\, 67\, 135)\;">beebenews@beebehealthcare.org</span></a><span style="color: rgb(29\, 67\, 135)\;">.</span></span></span></p>\n
LOCATION:Beebe Primary Care Selbyville 36450 Tidal Rd. Selbyville\, DE 19975
UID:e.2126.27403
SEQUENCE:3
DTSTAMP:20260420T152119Z
URL:http://business.thequietresorts.com/events/details/ribbon-cutting-for-beebe-primary-care-in-selbyille-27403
END:VEVENT

END:VCALENDAR
