BEGIN:VCALENDAR
VERSION:2.0
PRODID:-//ChamberMaster//Event Calendar 2.0//EN
METHOD:PUBLISH
X-PUBLISHED-TTL:P3D
REFRESH-INTERVAL:P3D
CALSCALE:GREGORIAN
BEGIN:VEVENT
DTSTART:20220914T180000Z
DTEND:20220914T200000Z
X-MICROSOFT-CDO-ALLDAYEVENT:FALSE
SUMMARY:Ribbon Cutting - Delmarva Design Center
DESCRIPTION:Join Delmarva Design Center for the Grand Opening and Ribbon Cutting of their new location in Selbyville on Wednesday\, September 14th.  \n\n\n\nA New Kitchen Design Center!\n\nA new kitchen and bath design center has now opened to serve the Delmarva Peninsula region.  The Delmarva Design Center is located at 38507 DuPont Boulevard in Selbyville\, DE.  This new design center brings together all the ingredients needed for a kitchen\, including\, cabinets\, countertops\, appliances\, tile\, and flooring backed by an experienced staff.\n\n\n\n\nStop in on Wednesday\, September 14th for a tour\, meet their experts\, and enter to win a \n\nLynx Sedona 30-inch grill\, a $500 DDC gift card\, or a 36" vanity complete with vanity\n\ntop and plumbing fixtures.  The drawing for the raffle will be on September 14th\, 2022.   \n\nYou do not need to be present to win.\n\n\n\n\n The celebration starts at 2:00 pm and the Ribbon Cutting will take place at 3:00 pm.
X-ALT-DESC;FMTTYPE=text/html:<span style="font-family:verdana\;"><span style="font-size:14px\;"><span style="box-sizing: content-box\; inset: auto\; clear: none\; color: rgb(37\, 32\, 26)\; content: normal\; direction: inherit\; empty-cells: show\; font-variant-numeric: inherit\; font-variant-east-asian: inherit\; font-stretch: inherit\; line-height: inherit\; margin: 0px\; max-height: none\; max-width: none\; min-height: initial\; min-width: initial\; opacity: 1\; outline-offset: 0px\; overflow: visible\; padding: 0px\; position: static\; resize: none\; table-layout: auto\; text-overflow: clip\; vertical-align: baseline\; visibility: inherit\; word-break: inherit\; overflow-wrap: inherit\; z-index: auto\; background-image: none\; background-position: initial\; background-size: initial\; background-repeat: initial\; background-attachment: initial\; background-origin: initial\; background-clip: initial\; border-width: initial\; border-style: none\; border-color: initial\; border-collapse: separate\; border-image: none 100% 1 0 / 1 / 0 stretch\; border-radius: 0px\; height: auto\; width: auto\; box-shadow: none\;">Join Delmarva Design Center for the Grand Opening and Ribbon Cutting of their new location in Selbyville on Wednesday\, September 14th.&nbsp\;&nbsp\;</span><br />\n<br />\n<span style="background-color: transparent\; color: rgb(119\, 161\, 161)\; text-align: center\;">A New Kitchen Design Center!</span><br />\n<span style="background-color: transparent\; color: rgb(102\, 102\, 102)\;">A new kitchen and bath design center has now opened to serve the Delmarva Peninsula region.&nbsp\; The Delmarva Design Center is located at 38507 DuPont Boulevard in Selbyville\, DE.&nbsp\; This new design center brings together all the ingredients needed for a kitchen\, including\, cabinets\, countertops\, appliances\, tile\, and flooring backed by an experienced staff.</span></span></span>\n<div class="et_pb_row et_pb_row_4" style="box-sizing: border-box\; margin-right: auto\; margin-left: auto\; padding-right: 0px\; padding-left: 0px\; border: 0px\; outline: 0px\; font-size: 16px\; text-size-adjust: 100%\; vertical-align: baseline\; background: 50% center / cover no-repeat transparent\; width: 1080px\; max-width: 1080px\; position: relative\; color: rgb(102\, 102\, 102)\; font-family: &quot\;Open Sans&quot\;\, Arial\, sans-serif\; margin-top: 0px !important\; margin-bottom: 0px !important\; padding-top: 0px !important\; padding-bottom: 0px !important\;">\n<div class="et_pb_column et_pb_column_4_4 et_pb_column_4  et_pb_css_mix_blend_mode_passthrough et-last-child" style="box-sizing: border-box\; margin-top: 0px\; margin-bottom: 0px\; margin-left: 0px\; padding: 0px\; border: 0px\; outline: 0px\; text-size-adjust: 100%\; vertical-align: baseline\; background: 50% center / cover no-repeat transparent\; float: left\; position: relative\; z-index: 2\; min-height: 1px\; width: 1080px\; margin-right: 0px !important\; mix-blend-mode: unset !important\;">\n<div class="et_pb_module et_pb_text et_pb_text_3  et_pb_text_align_left et_pb_bg_layout_light" style="box-sizing: border-box\; margin: 0px\; padding-top: 0px\; padding-right: 0px\; padding-left: 0px\; border: 0px\; outline: 0px\; font-size: 18px\; text-size-adjust: 100%\; vertical-align: baseline\; background: 50% center / cover no-repeat transparent\; position: relative\; animation-timing-function: linear\; animation-duration: 0.2s\; overflow-wrap: break-word\; padding-bottom: 20px !important\;">\n<div class="et_pb_text_inner" style="box-sizing: border-box\; margin: 0px\; padding: 0px\; border: 0px\; outline: 0px\; text-size-adjust: 100%\; vertical-align: baseline\; background: transparent\; position: relative\;">\n<p style="box-sizing: border-box\; margin: 0px\; padding: 0px 0px 1em\; border: 0px\; outline: 0px\; text-size-adjust: 100%\; vertical-align: baseline\; background: transparent\;"><span style="font-family:verdana\;"><span style="font-size:14px\;">Stop in on Wednesday\, September 14th for a tour\, meet their&nbsp\;experts\, and enter to win a&nbsp\;<br />\n<span style="box-sizing: border-box\; margin: 0px\; padding: 0px\; border: 0px\; outline: 0px\; text-size-adjust: 100%\; vertical-align: baseline\; background: transparent\; font-weight: 700\;">Lynx Sedona 30-inch grill</span>\, a&nbsp\;<span style="box-sizing: border-box\; margin: 0px\; padding: 0px\; border: 0px\; outline: 0px\; text-size-adjust: 100%\; vertical-align: baseline\; background: transparent\; font-weight: 700\;">$500 DDC gift card</span>\, or a&nbsp\;<span style="box-sizing: border-box\; margin: 0px\; padding: 0px\; border: 0px\; outline: 0px\; text-size-adjust: 100%\; vertical-align: baseline\; background: transparent\; font-weight: 700\;">36&rdquo\; vanity</span>&nbsp\;complete with vanity<br />\ntop and plumbing fixtures.&nbsp\; The drawing for the raffle will be on September 14<span style="box-sizing: border-box\; margin: 0px\; padding: 0px\; border: 0px\; outline: 0px\; text-size-adjust: 100%\; vertical-align: baseline\; background: transparent\;">th</span>\, 2022.&nbsp\; &nbsp\;</span></span></p>\n\n<p style="box-sizing: border-box\; margin: 0px\; padding: 0px\; border: 0px\; outline: 0px\; text-size-adjust: 100%\; vertical-align: baseline\; background: transparent\;"><span style="font-family:verdana\;"><span style="font-size:14px\;">You do not need to be present to win.</span></span></p>\n</div>\n</div>\n</div>\n</div>\n<span style="font-family:verdana\;"> <span style="font-size:14px\;"><span style="box-sizing: content-box\; inset: auto\; clear: none\; color: rgb(37\, 32\, 26)\; content: normal\; direction: inherit\; empty-cells: show\; font-variant-numeric: inherit\; font-variant-east-asian: inherit\; font-stretch: inherit\; line-height: inherit\; margin: 0px\; max-height: none\; max-width: none\; min-height: initial\; min-width: initial\; opacity: 1\; outline-offset: 0px\; overflow: visible\; padding: 0px\; position: static\; resize: none\; table-layout: auto\; text-overflow: clip\; vertical-align: baseline\; visibility: inherit\; word-break: inherit\; overflow-wrap: inherit\; z-index: auto\; background-image: none\; background-position: initial\; background-size: initial\; background-repeat: initial\; background-attachment: initial\; background-origin: initial\; background-clip: initial\; border-width: initial\; border-style: none\; border-color: initial\; border-collapse: separate\; border-image: none 100% 1 0 / 1 / 0 stretch\; border-radius: 0px\; height: auto\; width: auto\; box-shadow: none\;">The celebration starts at 2:00 pm and the Ribbon Cutting will take place at 3:00 pm.&nbsp\;&nbsp\;</span></span></span>\n\n<div class="et_pb_module et_pb_image et_pb_image_0" style="box-sizing: border-box\; margin: 0px auto 29.6875px 0px\; padding: 0px\; border: 0px\; outline: 0px\; font-size: 16px\; text-size-adjust: 100%\; vertical-align: baseline\; background-image: initial\; background-position: 50% center\; background-size: cover\; background-repeat: no-repeat\; background-attachment: initial\; background-origin: initial\; background-clip: initial\; position: relative\; animation-timing-function: linear\; animation-duration: 0.2s\; line-height: 0\; color: rgb(102\, 102\, 102)\; font-family: &quot\;Open Sans&quot\;\, Arial\, sans-serif\;">&nbsp\;</div>\n\n<div class="et_pb_module et_pb_text et_pb_text_4  et_pb_text_align_left et_pb_bg_layout_light" style="box-sizing: border-box\; margin: 0px\; padding: 0px\; border: 0px\; outline: 0px\; font-size: 18px\; text-size-adjust: 100%\; vertical-align: baseline\; background-image: initial\; background-position: 50% center\; background-size: cover\; background-repeat: no-repeat\; background-attachment: initial\; background-origin: initial\; background-clip: initial\; position: relative\; animation-timing-function: linear\; animation-duration: 0.2s\; overflow-wrap: break-word\; font-family: &quot\;Open Sans&quot\;\, Arial\, sans-serif\; color: rgb(0\, 0\, 0) !important\;">\n<div class="et_pb_text_inner" style="box-sizing: border-box\; margin: 0px\; padding: 0px\; border: 0px\; outline: 0px\; text-size-adjust: 100%\; vertical-align: baseline\; background: transparent\; position: relative\;">\n<p style="box-sizing: border-box\; margin: 0px\; padding: 0px\; border: 0px\; outline: 0px\; text-size-adjust: 100%\; vertical-align: baseline\; background: transparent\; text-align: center\;">&nbsp\;</p>\n</div>\n</div>\n<br />\n&nbsp\;
LOCATION:Delmarva Design Center 38507 DuPont Boulevard Selbyville\, DE 19975
UID:e.2126.24053
SEQUENCE:3
DTSTAMP:20260421T173216Z
URL:http://business.thequietresorts.com/events/details/ribbon-cutting-delmarva-design-center-24053
END:VEVENT

END:VCALENDAR
