BEGIN:VCALENDAR
VERSION:2.0
PRODID:-//ChamberMaster//Event Calendar 2.0//EN
METHOD:PUBLISH
X-PUBLISHED-TTL:P3D
REFRESH-INTERVAL:P3D
CALSCALE:GREGORIAN
BEGIN:VEVENT
DTSTART:20220601T150000Z
DTEND:20220601T170000Z
X-MICROSOFT-CDO-ALLDAYEVENT:FALSE
SUMMARY:Ribbon Cutting - Beazer Homes - Sycamore Chase Community
DESCRIPTION:Join Beazer Homes for the Ribbon Cutting Ceremony of their new community and model homes at Sycamore Chase! Stop in to enjoy light refreshments and take home some Beazer swag for those who attend. Enjoy touring the community\, model homes\, and meeting the Beazer team!\n\n \n\nThe celebration will begin at 11:00 A.M.\, and the ribbon cutting will take place at 11:30 A.M. The ceremony will end by 1:00 P.M. The model home will remain open until 5:00 P.M.
X-ALT-DESC;FMTTYPE=text/html:Join Beazer Homes for the Ribbon Cutting Ceremony of their new community and model homes at Sycamore Chase! Stop in to enjoy light refreshments and take home some Beazer swag for those who attend. Enjoy touring the community\, model homes\, and meeting the Beazer team!<br />\n&nbsp\;<br />\nThe celebration will begin at 11:00 A.M.\, and the ribbon cutting will take place at 11:30 A.M. The ceremony will end by 1:00 P.M. The model home will remain open until 5:00 P.M.<br />\n&nbsp\;<br />\n<br />\n&nbsp\;
LOCATION:Beazer Homes - Sycamore Chase Community 36035 Windsor Park Dr. Frankford\, DE 19945
UID:e.2126.23662
SEQUENCE:3
DTSTAMP:20260422T001042Z
URL:http://business.thequietresorts.com/events/details/ribbon-cutting-beazer-homes-sycamore-chase-community-23662
END:VEVENT

END:VCALENDAR
