BEGIN:VCALENDAR
VERSION:2.0
PRODID:-//ChamberMaster//Event Calendar 2.0//EN
METHOD:PUBLISH
X-PUBLISHED-TTL:P3D
REFRESH-INTERVAL:P3D
CALSCALE:GREGORIAN
BEGIN:VEVENT
DTSTART:20221014T130000Z
DTEND:20221015T210000Z
X-MICROSOFT-CDO-ALLDAYEVENT:FALSE
SUMMARY:ReWild with Native Plants Sale
DESCRIPTION:ReWild with Native Plants Sale\n\nat the Inland Bays Garden Center\n\n\n\nReWild Delmarva supports pollinators and wildlife by encouraging the planting and reservation of native plants\, trees\, and shrubs with less invasive landscaping practices\n\n\n\n**Inland Bays Garden Center will offer both pollinator and bird lover plant bundles\, with a free plant included with the purchase of five plants**\n\n\n\nCome celebrate the launch of ReWild!
X-ALT-DESC;FMTTYPE=text/html:<div style="text-align: center\;"><span style="font-size:14px\;"><span style="font-family:arial\;"><strong>ReWild with Native Plants Sale<br />\nat the Inland Bays Garden Center</strong><br />\n<br />\nReWild Delmarva supports pollinators and wildlife by encouraging the planting and reservation of native plants\, trees\, and shrubs with less invasive landscaping practices<br />\n<br />\n<em><strong>**Inland Bays Garden Center will offer both pollinator and bird lover plant bundles\, with a free plant included with the purchase of five plants**</strong></em><br />\n<br />\n<strong>Come celebrate the launch of ReWild!</strong></span></span></div>\n
LOCATION:Inland Bays Garden Center 38320 Muddy Neck Rd Frankford\, DE 19945
UID:e.2126.24475
SEQUENCE:3
DTSTAMP:20260421T160613Z
URL:http://business.thequietresorts.com/events/details/rewild-with-native-plants-sale-24475
END:VEVENT

END:VCALENDAR
