BEGIN:VCALENDAR
VERSION:2.0
PRODID:-//ChamberMaster//Event Calendar 2.0//EN
METHOD:PUBLISH
X-PUBLISHED-TTL:P3D
REFRESH-INTERVAL:P3D
CALSCALE:GREGORIAN
BEGIN:VEVENT
DTSTART:20191204T180000Z
DTEND:20191204T191500Z
X-MICROSOFT-CDO-ALLDAYEVENT:FALSE
SUMMARY:Revelation Study
DESCRIPTION:Starting on Wednesday\, October 9th Millville United Methodist Church will be hosting a study on the book of Revelation every Wednesday afternoon at 1:00 PM in their Wesley Hall. There is no cost\, and anyone is invited regardless of faith background or Bible knowledge. This study will be roughly 1 hour and 15 minutes per session\, including lecture and discussion\, and end December 11th. There are no required texts\, other than a Bible if you have one. MUMC is located at 36405 Club House Rd.\, Millville\, Delaware.
X-ALT-DESC;FMTTYPE=text/html:<span style="font-size: 14px\;"><span style="font-family: arial\;">Starting on Wednesday\, October 9<sup>th</sup> Millville United Methodist Church will be hosting a study on the book of Revelation every Wednesday afternoon at 1:00 PM in their Wesley Hall. There is no cost\, and anyone is invited regardless of faith background or Bible knowledge. This study will be roughly 1 hour and 15 minutes per session\, including lecture and discussion\, and end December 11th. There are no required texts\, other than a Bible if you have one. MUMC is located at 36405 Club House Rd.\, Millville\, Delaware.</span></span>
LOCATION:Millville United Methodist Church 36405 Club House Rd. Millville\, DE 19967
UID:e.2126.17271
SEQUENCE:3
DTSTAMP:20260426T034314Z
URL:http://business.thequietresorts.com/events/details/revelation-study-12-04-2019-17271
END:VEVENT

END:VCALENDAR
