BEGIN:VCALENDAR
VERSION:2.0
PRODID:-//ChamberMaster//Event Calendar 2.0//EN
METHOD:PUBLISH
X-PUBLISHED-TTL:P3D
REFRESH-INTERVAL:P3D
CALSCALE:GREGORIAN
BEGIN:VEVENT
DTSTART:20221004T120000Z
DTEND:20221004T130000Z
X-MICROSOFT-CDO-ALLDAYEVENT:FALSE
SUMMARY:RetireWise: Educational Workshops for Pre-retirees and Retirees
DESCRIPTION:Please join us for our 1-Hour Kickoff Workshop on Tuesday\, October 4th at 8:00am at the Bethany-Fenwick Area Chamber of Commerce.\n\n\n\nRetire with Purpose\n\n	The non-financial aspects of a purposeful retirement\n	Discover the new ways to enjoy your freedom\n	Take a proactive approach to your happiness in retirement\n	Developing a retirement lifestyle action plan\n\nThis the first in a series of FREE Educational Workshops highlighting all aspects of your retirement life offered by local Certified Financial Planner TM Daniel W. Rowles\n\n\n\nSECURITIES OFFERED THROUGH LPL FINANCIAL\, MEMBER FINRa/SIPC. INVESTMENT ADVICE OFFERED THROUGH PRIVATE ADVISOR GROUP. A REGISTERED INVESTMENT ADVISOR AND SEPARATE ENTITY FROM LPL FINANCIAL.
X-ALT-DESC;FMTTYPE=text/html:Please join us for our 1-Hour Kickoff Workshop on Tuesday\, October 4th at 8:00am at the Bethany-Fenwick Area Chamber of Commerce.<br />\n<br />\n<u><strong>Retire with Purpose</strong></u>\n<ul>\n	<li>The non-financial aspects of a purposeful retirement</li>\n	<li>Discover the new ways to enjoy your freedom</li>\n	<li>Take a proactive approach to your happiness in retirement</li>\n	<li>Developing a retirement lifestyle action plan</li>\n</ul>\nThis the first in a series of FREE Educational Workshops highlighting all aspects of your retirement life offered by local Certified Financial Planner <span style="font-size:8px\;">TM</span> Daniel W. Rowles<br />\n<br />\n<span style="font-size:9px\;">SECURITIES OFFERED THROUGH LPL FINANCIAL\, MEMBER FINRa/SIPC. INVESTMENT ADVICE OFFERED THROUGH PRIVATE ADVISOR GROUP. A REGISTERED INVESTMENT&nbsp\;ADVISOR AND SEPARATE ENTITY FROM LPL FINANCIAL.</span>
LOCATION:Bethany-Fenwick Area Chamber of Commerce 36913 Coastal Hwy. Fenwick Island\, DE
UID:e.2126.24173
SEQUENCE:3
DTSTAMP:20260421T173155Z
URL:http://business.thequietresorts.com/events/details/retirewise-educational-workshops-for-pre-retirees-and-retirees-10-04-2022-24173
END:VEVENT

END:VCALENDAR
